BEGIN:VCALENDAR
VERSION:2.0
PRODID:-//Maybelle Center - ECPv6.15.20//NONSGML v1.0//EN
CALSCALE:GREGORIAN
METHOD:PUBLISH
X-WR-CALNAME:Maybelle Center
X-ORIGINAL-URL:https://maybellecenter.org
X-WR-CALDESC:Events for Maybelle Center
REFRESH-INTERVAL;VALUE=DURATION:PT1H
X-Robots-Tag:noindex
X-PUBLISHED-TTL:PT1H
BEGIN:VTIMEZONE
TZID:America/Los_Angeles
BEGIN:DAYLIGHT
TZOFFSETFROM:-0800
TZOFFSETTO:-0700
TZNAME:PDT
DTSTART:20250309T100000
END:DAYLIGHT
BEGIN:STANDARD
TZOFFSETFROM:-0700
TZOFFSETTO:-0800
TZNAME:PST
DTSTART:20251102T090000
END:STANDARD
BEGIN:DAYLIGHT
TZOFFSETFROM:-0800
TZOFFSETTO:-0700
TZNAME:PDT
DTSTART:20260308T100000
END:DAYLIGHT
BEGIN:STANDARD
TZOFFSETFROM:-0700
TZOFFSETTO:-0800
TZNAME:PST
DTSTART:20261101T090000
END:STANDARD
BEGIN:DAYLIGHT
TZOFFSETFROM:-0800
TZOFFSETTO:-0700
TZNAME:PDT
DTSTART:20270314T100000
END:DAYLIGHT
BEGIN:STANDARD
TZOFFSETFROM:-0700
TZOFFSETTO:-0800
TZNAME:PST
DTSTART:20271107T090000
END:STANDARD
BEGIN:DAYLIGHT
TZOFFSETFROM:-0800
TZOFFSETTO:-0700
TZNAME:PDT
DTSTART:20280312T100000
END:DAYLIGHT
BEGIN:STANDARD
TZOFFSETFROM:-0700
TZOFFSETTO:-0800
TZNAME:PST
DTSTART:20281105T090000
END:STANDARD
END:VTIMEZONE
BEGIN:VEVENT
DTSTART;TZID=America/Los_Angeles:20260817T130000
DTEND;TZID=America/Los_Angeles:20260817T150000
DTSTAMP:20260421T045645
CREATED:20251110T213848Z
LAST-MODIFIED:20260420T051656Z
UID:10004714-1786971600-1786978800@maybellecenter.org
SUMMARY:Community Room Open
DESCRIPTION:The Community Room is a safer space to gather and grow friendships. Come in for a cup of coffee and stay to connect with others over a game\, puzzle\, or with art supplies that are always available! \nThe Community Room is open Monday afternoons from 1-3 PM\, on Tuesdays\, Thursdays\, and Fridays from 10:30 AM-2:30 PM.
URL:https://maybellecenter.org/event/community-room-open-3-2/2026-08-17/
LOCATION:Maybelle Center Community Room\, 121 NW 6th Ave\, Portland\, 97209\, United States
CATEGORIES:Members,Volunteers
ATTACH;FMTTYPE=image/png:https://maybellecenter.org/wp-content/uploads/2025/07/Community-Room-Hours.png
END:VEVENT
BEGIN:VEVENT
DTSTART;TZID=America/Los_Angeles:20260824T130000
DTEND;TZID=America/Los_Angeles:20260824T150000
DTSTAMP:20260421T045645
CREATED:20251110T213848Z
LAST-MODIFIED:20260420T051656Z
UID:10004715-1787576400-1787583600@maybellecenter.org
SUMMARY:Community Room Open
DESCRIPTION:The Community Room is a safer space to gather and grow friendships. Come in for a cup of coffee and stay to connect with others over a game\, puzzle\, or with art supplies that are always available! \nThe Community Room is open Monday afternoons from 1-3 PM\, on Tuesdays\, Thursdays\, and Fridays from 10:30 AM-2:30 PM.
URL:https://maybellecenter.org/event/community-room-open-3-2/2026-08-24/
LOCATION:Maybelle Center Community Room\, 121 NW 6th Ave\, Portland\, 97209\, United States
CATEGORIES:Members,Volunteers
ATTACH;FMTTYPE=image/png:https://maybellecenter.org/wp-content/uploads/2025/07/Community-Room-Hours.png
END:VEVENT
BEGIN:VEVENT
DTSTART;TZID=America/Los_Angeles:20260827T133000
DTEND;TZID=America/Los_Angeles:20260827T143000
DTSTAMP:20260421T045645
CREATED:20251110T215514Z
LAST-MODIFIED:20251110T215515Z
UID:10003915-1787837400-1787841000@maybellecenter.org
SUMMARY:Birthday Party!
DESCRIPTION:Happy Birthday! On the last Thursday of every month\, we celebrate the birthdays of the members who had birthdays. Come for cake\, community\, and a celebration of another year (sugar-free and gluten-free treats available)!
URL:https://maybellecenter.org/event/birthday-party-2-2/2026-08-27/
LOCATION:Maybelle Center Community Room\, 121 NW 6th Ave\, Portland\, 97209\, United States
CATEGORIES:Members
ATTACH;FMTTYPE=image/png:https://maybellecenter.org/wp-content/uploads/2024/11/Birthday-party-2025-update.png
END:VEVENT
BEGIN:VEVENT
DTSTART;TZID=America/Los_Angeles:20260831T130000
DTEND;TZID=America/Los_Angeles:20260831T150000
DTSTAMP:20260421T045645
CREATED:20251110T213848Z
LAST-MODIFIED:20260420T051656Z
UID:10004716-1788181200-1788188400@maybellecenter.org
SUMMARY:Community Room Open
DESCRIPTION:The Community Room is a safer space to gather and grow friendships. Come in for a cup of coffee and stay to connect with others over a game\, puzzle\, or with art supplies that are always available! \nThe Community Room is open Monday afternoons from 1-3 PM\, on Tuesdays\, Thursdays\, and Fridays from 10:30 AM-2:30 PM.
URL:https://maybellecenter.org/event/community-room-open-3-2/2026-08-31/
LOCATION:Maybelle Center Community Room\, 121 NW 6th Ave\, Portland\, 97209\, United States
CATEGORIES:Members,Volunteers
ATTACH;FMTTYPE=image/png:https://maybellecenter.org/wp-content/uploads/2025/07/Community-Room-Hours.png
END:VEVENT
BEGIN:VEVENT
DTSTART;TZID=America/Los_Angeles:20260907T130000
DTEND;TZID=America/Los_Angeles:20260907T150000
DTSTAMP:20260421T045645
CREATED:20251110T213848Z
LAST-MODIFIED:20260420T051656Z
UID:10004717-1788786000-1788793200@maybellecenter.org
SUMMARY:Community Room Open
DESCRIPTION:The Community Room is a safer space to gather and grow friendships. Come in for a cup of coffee and stay to connect with others over a game\, puzzle\, or with art supplies that are always available! \nThe Community Room is open Monday afternoons from 1-3 PM\, on Tuesdays\, Thursdays\, and Fridays from 10:30 AM-2:30 PM.
URL:https://maybellecenter.org/event/community-room-open-3-2/2026-09-07/
LOCATION:Maybelle Center Community Room\, 121 NW 6th Ave\, Portland\, 97209\, United States
CATEGORIES:Members,Volunteers
ATTACH;FMTTYPE=image/png:https://maybellecenter.org/wp-content/uploads/2025/07/Community-Room-Hours.png
END:VEVENT
BEGIN:VEVENT
DTSTART;TZID=America/Los_Angeles:20260908T103000
DTEND;TZID=America/Los_Angeles:20260908T120000
DTSTAMP:20260421T045645
CREATED:20250102T190346Z
LAST-MODIFIED:20250102T190347Z
UID:10003737-1788863400-1788868800@maybellecenter.org
SUMMARY:CareOregon Advantage Q&A
DESCRIPTION:Bring your questions regarding aging or disability\, Medicare\, and disability services.
URL:https://maybellecenter.org/event/aging-and-disability-qa-4-2/2026-09-08/
LOCATION:Maybelle Center Community Room\, 121 NW 6th Ave\, Portland\, 97209\, United States
CATEGORIES:Members
ATTACH;FMTTYPE=image/png:https://maybellecenter.org/wp-content/uploads/2024/10/Aging-Disability-QA-2025-update-1.png
END:VEVENT
BEGIN:VEVENT
DTSTART;TZID=America/Los_Angeles:20260914T130000
DTEND;TZID=America/Los_Angeles:20260914T150000
DTSTAMP:20260421T045645
CREATED:20251110T213848Z
LAST-MODIFIED:20260420T051656Z
UID:10004718-1789390800-1789398000@maybellecenter.org
SUMMARY:Community Room Open
DESCRIPTION:The Community Room is a safer space to gather and grow friendships. Come in for a cup of coffee and stay to connect with others over a game\, puzzle\, or with art supplies that are always available! \nThe Community Room is open Monday afternoons from 1-3 PM\, on Tuesdays\, Thursdays\, and Fridays from 10:30 AM-2:30 PM.
URL:https://maybellecenter.org/event/community-room-open-3-2/2026-09-14/
LOCATION:Maybelle Center Community Room\, 121 NW 6th Ave\, Portland\, 97209\, United States
CATEGORIES:Members,Volunteers
ATTACH;FMTTYPE=image/png:https://maybellecenter.org/wp-content/uploads/2025/07/Community-Room-Hours.png
END:VEVENT
BEGIN:VEVENT
DTSTART;TZID=America/Los_Angeles:20260921T130000
DTEND;TZID=America/Los_Angeles:20260921T150000
DTSTAMP:20260421T045645
CREATED:20251110T213848Z
LAST-MODIFIED:20260420T051656Z
UID:10004719-1789995600-1790002800@maybellecenter.org
SUMMARY:Community Room Open
DESCRIPTION:The Community Room is a safer space to gather and grow friendships. Come in for a cup of coffee and stay to connect with others over a game\, puzzle\, or with art supplies that are always available! \nThe Community Room is open Monday afternoons from 1-3 PM\, on Tuesdays\, Thursdays\, and Fridays from 10:30 AM-2:30 PM.
URL:https://maybellecenter.org/event/community-room-open-3-2/2026-09-21/
LOCATION:Maybelle Center Community Room\, 121 NW 6th Ave\, Portland\, 97209\, United States
CATEGORIES:Members,Volunteers
ATTACH;FMTTYPE=image/png:https://maybellecenter.org/wp-content/uploads/2025/07/Community-Room-Hours.png
END:VEVENT
BEGIN:VEVENT
DTSTART;TZID=America/Los_Angeles:20260924T133000
DTEND;TZID=America/Los_Angeles:20260924T143000
DTSTAMP:20260421T045645
CREATED:20251110T215514Z
LAST-MODIFIED:20251110T215515Z
UID:10003916-1790256600-1790260200@maybellecenter.org
SUMMARY:Birthday Party!
DESCRIPTION:Happy Birthday! On the last Thursday of every month\, we celebrate the birthdays of the members who had birthdays. Come for cake\, community\, and a celebration of another year (sugar-free and gluten-free treats available)!
URL:https://maybellecenter.org/event/birthday-party-2-2/2026-09-24/
LOCATION:Maybelle Center Community Room\, 121 NW 6th Ave\, Portland\, 97209\, United States
CATEGORIES:Members
ATTACH;FMTTYPE=image/png:https://maybellecenter.org/wp-content/uploads/2024/11/Birthday-party-2025-update.png
END:VEVENT
BEGIN:VEVENT
DTSTART;TZID=America/Los_Angeles:20260928T130000
DTEND;TZID=America/Los_Angeles:20260928T150000
DTSTAMP:20260421T045645
CREATED:20251110T213848Z
LAST-MODIFIED:20260420T051656Z
UID:10004720-1790600400-1790607600@maybellecenter.org
SUMMARY:Community Room Open
DESCRIPTION:The Community Room is a safer space to gather and grow friendships. Come in for a cup of coffee and stay to connect with others over a game\, puzzle\, or with art supplies that are always available! \nThe Community Room is open Monday afternoons from 1-3 PM\, on Tuesdays\, Thursdays\, and Fridays from 10:30 AM-2:30 PM.
URL:https://maybellecenter.org/event/community-room-open-3-2/2026-09-28/
LOCATION:Maybelle Center Community Room\, 121 NW 6th Ave\, Portland\, 97209\, United States
CATEGORIES:Members,Volunteers
ATTACH;FMTTYPE=image/png:https://maybellecenter.org/wp-content/uploads/2025/07/Community-Room-Hours.png
END:VEVENT
BEGIN:VEVENT
DTSTART;TZID=America/Los_Angeles:20261005T130000
DTEND;TZID=America/Los_Angeles:20261005T150000
DTSTAMP:20260421T045645
CREATED:20251110T213848Z
LAST-MODIFIED:20260420T051656Z
UID:10004721-1791205200-1791212400@maybellecenter.org
SUMMARY:Community Room Open
DESCRIPTION:The Community Room is a safer space to gather and grow friendships. Come in for a cup of coffee and stay to connect with others over a game\, puzzle\, or with art supplies that are always available! \nThe Community Room is open Monday afternoons from 1-3 PM\, on Tuesdays\, Thursdays\, and Fridays from 10:30 AM-2:30 PM.
URL:https://maybellecenter.org/event/community-room-open-3-2/2026-10-05/
LOCATION:Maybelle Center Community Room\, 121 NW 6th Ave\, Portland\, 97209\, United States
CATEGORIES:Members,Volunteers
ATTACH;FMTTYPE=image/png:https://maybellecenter.org/wp-content/uploads/2025/07/Community-Room-Hours.png
END:VEVENT
BEGIN:VEVENT
DTSTART;TZID=America/Los_Angeles:20261012T130000
DTEND;TZID=America/Los_Angeles:20261012T150000
DTSTAMP:20260421T045645
CREATED:20251110T213848Z
LAST-MODIFIED:20260420T051656Z
UID:10004722-1791810000-1791817200@maybellecenter.org
SUMMARY:Community Room Open
DESCRIPTION:The Community Room is a safer space to gather and grow friendships. Come in for a cup of coffee and stay to connect with others over a game\, puzzle\, or with art supplies that are always available! \nThe Community Room is open Monday afternoons from 1-3 PM\, on Tuesdays\, Thursdays\, and Fridays from 10:30 AM-2:30 PM.
URL:https://maybellecenter.org/event/community-room-open-3-2/2026-10-12/
LOCATION:Maybelle Center Community Room\, 121 NW 6th Ave\, Portland\, 97209\, United States
CATEGORIES:Members,Volunteers
ATTACH;FMTTYPE=image/png:https://maybellecenter.org/wp-content/uploads/2025/07/Community-Room-Hours.png
END:VEVENT
BEGIN:VEVENT
DTSTART;TZID=America/Los_Angeles:20261013T103000
DTEND;TZID=America/Los_Angeles:20261013T120000
DTSTAMP:20260421T045645
CREATED:20250102T190346Z
LAST-MODIFIED:20250102T190347Z
UID:10003738-1791887400-1791892800@maybellecenter.org
SUMMARY:CareOregon Advantage Q&A
DESCRIPTION:Bring your questions regarding aging or disability\, Medicare\, and disability services.
URL:https://maybellecenter.org/event/aging-and-disability-qa-4-2/2026-10-13/
LOCATION:Maybelle Center Community Room\, 121 NW 6th Ave\, Portland\, 97209\, United States
CATEGORIES:Members
ATTACH;FMTTYPE=image/png:https://maybellecenter.org/wp-content/uploads/2024/10/Aging-Disability-QA-2025-update-1.png
END:VEVENT
BEGIN:VEVENT
DTSTART;TZID=America/Los_Angeles:20261019T130000
DTEND;TZID=America/Los_Angeles:20261019T150000
DTSTAMP:20260421T045645
CREATED:20251110T213848Z
LAST-MODIFIED:20260420T051656Z
UID:10004723-1792414800-1792422000@maybellecenter.org
SUMMARY:Community Room Open
DESCRIPTION:The Community Room is a safer space to gather and grow friendships. Come in for a cup of coffee and stay to connect with others over a game\, puzzle\, or with art supplies that are always available! \nThe Community Room is open Monday afternoons from 1-3 PM\, on Tuesdays\, Thursdays\, and Fridays from 10:30 AM-2:30 PM.
URL:https://maybellecenter.org/event/community-room-open-3-2/2026-10-19/
LOCATION:Maybelle Center Community Room\, 121 NW 6th Ave\, Portland\, 97209\, United States
CATEGORIES:Members,Volunteers
ATTACH;FMTTYPE=image/png:https://maybellecenter.org/wp-content/uploads/2025/07/Community-Room-Hours.png
END:VEVENT
BEGIN:VEVENT
DTSTART;TZID=America/Los_Angeles:20261022T133000
DTEND;TZID=America/Los_Angeles:20261022T143000
DTSTAMP:20260421T045645
CREATED:20251110T215514Z
LAST-MODIFIED:20251110T215515Z
UID:10005817-1792675800-1792679400@maybellecenter.org
SUMMARY:Birthday Party!
DESCRIPTION:Happy Birthday! On the last Thursday of every month\, we celebrate the birthdays of the members who had birthdays. Come for cake\, community\, and a celebration of another year (sugar-free and gluten-free treats available)!
URL:https://maybellecenter.org/event/birthday-party-2-2/2026-10-22/
LOCATION:Maybelle Center Community Room\, 121 NW 6th Ave\, Portland\, 97209\, United States
CATEGORIES:Members
ATTACH;FMTTYPE=image/png:https://maybellecenter.org/wp-content/uploads/2024/11/Birthday-party-2025-update.png
END:VEVENT
BEGIN:VEVENT
DTSTART;TZID=America/Los_Angeles:20261026T130000
DTEND;TZID=America/Los_Angeles:20261026T150000
DTSTAMP:20260421T045645
CREATED:20251110T213848Z
LAST-MODIFIED:20260420T051656Z
UID:10004724-1793019600-1793026800@maybellecenter.org
SUMMARY:Community Room Open
DESCRIPTION:The Community Room is a safer space to gather and grow friendships. Come in for a cup of coffee and stay to connect with others over a game\, puzzle\, or with art supplies that are always available! \nThe Community Room is open Monday afternoons from 1-3 PM\, on Tuesdays\, Thursdays\, and Fridays from 10:30 AM-2:30 PM.
URL:https://maybellecenter.org/event/community-room-open-3-2/2026-10-26/
LOCATION:Maybelle Center Community Room\, 121 NW 6th Ave\, Portland\, 97209\, United States
CATEGORIES:Members,Volunteers
ATTACH;FMTTYPE=image/png:https://maybellecenter.org/wp-content/uploads/2025/07/Community-Room-Hours.png
END:VEVENT
BEGIN:VEVENT
DTSTART;TZID=America/Los_Angeles:20261102T130000
DTEND;TZID=America/Los_Angeles:20261102T150000
DTSTAMP:20260421T045645
CREATED:20251110T213848Z
LAST-MODIFIED:20260420T051656Z
UID:10004725-1793624400-1793631600@maybellecenter.org
SUMMARY:Community Room Open
DESCRIPTION:The Community Room is a safer space to gather and grow friendships. Come in for a cup of coffee and stay to connect with others over a game\, puzzle\, or with art supplies that are always available! \nThe Community Room is open Monday afternoons from 1-3 PM\, on Tuesdays\, Thursdays\, and Fridays from 10:30 AM-2:30 PM.
URL:https://maybellecenter.org/event/community-room-open-3-2/2026-11-02/
LOCATION:Maybelle Center Community Room\, 121 NW 6th Ave\, Portland\, 97209\, United States
CATEGORIES:Members,Volunteers
ATTACH;FMTTYPE=image/png:https://maybellecenter.org/wp-content/uploads/2025/07/Community-Room-Hours.png
END:VEVENT
BEGIN:VEVENT
DTSTART;TZID=America/Los_Angeles:20261109T130000
DTEND;TZID=America/Los_Angeles:20261109T150000
DTSTAMP:20260421T045645
CREATED:20251110T213848Z
LAST-MODIFIED:20260420T051656Z
UID:10004726-1794229200-1794236400@maybellecenter.org
SUMMARY:Community Room Open
DESCRIPTION:The Community Room is a safer space to gather and grow friendships. Come in for a cup of coffee and stay to connect with others over a game\, puzzle\, or with art supplies that are always available! \nThe Community Room is open Monday afternoons from 1-3 PM\, on Tuesdays\, Thursdays\, and Fridays from 10:30 AM-2:30 PM.
URL:https://maybellecenter.org/event/community-room-open-3-2/2026-11-09/
LOCATION:Maybelle Center Community Room\, 121 NW 6th Ave\, Portland\, 97209\, United States
CATEGORIES:Members,Volunteers
ATTACH;FMTTYPE=image/png:https://maybellecenter.org/wp-content/uploads/2025/07/Community-Room-Hours.png
END:VEVENT
BEGIN:VEVENT
DTSTART;TZID=America/Los_Angeles:20261110T103000
DTEND;TZID=America/Los_Angeles:20261110T120000
DTSTAMP:20260421T045645
CREATED:20250102T190346Z
LAST-MODIFIED:20250102T190347Z
UID:10003739-1794306600-1794312000@maybellecenter.org
SUMMARY:CareOregon Advantage Q&A
DESCRIPTION:Bring your questions regarding aging or disability\, Medicare\, and disability services.
URL:https://maybellecenter.org/event/aging-and-disability-qa-4-2/2026-11-10/
LOCATION:Maybelle Center Community Room\, 121 NW 6th Ave\, Portland\, 97209\, United States
CATEGORIES:Members
ATTACH;FMTTYPE=image/png:https://maybellecenter.org/wp-content/uploads/2024/10/Aging-Disability-QA-2025-update-1.png
END:VEVENT
BEGIN:VEVENT
DTSTART;TZID=America/Los_Angeles:20261116T130000
DTEND;TZID=America/Los_Angeles:20261116T150000
DTSTAMP:20260421T045645
CREATED:20251110T213848Z
LAST-MODIFIED:20260420T051656Z
UID:10004727-1794834000-1794841200@maybellecenter.org
SUMMARY:Community Room Open
DESCRIPTION:The Community Room is a safer space to gather and grow friendships. Come in for a cup of coffee and stay to connect with others over a game\, puzzle\, or with art supplies that are always available! \nThe Community Room is open Monday afternoons from 1-3 PM\, on Tuesdays\, Thursdays\, and Fridays from 10:30 AM-2:30 PM.
URL:https://maybellecenter.org/event/community-room-open-3-2/2026-11-16/
LOCATION:Maybelle Center Community Room\, 121 NW 6th Ave\, Portland\, 97209\, United States
CATEGORIES:Members,Volunteers
ATTACH;FMTTYPE=image/png:https://maybellecenter.org/wp-content/uploads/2025/07/Community-Room-Hours.png
END:VEVENT
BEGIN:VEVENT
DTSTART;TZID=America/Los_Angeles:20261123T130000
DTEND;TZID=America/Los_Angeles:20261123T150000
DTSTAMP:20260421T045645
CREATED:20251110T213848Z
LAST-MODIFIED:20260420T051656Z
UID:10004728-1795438800-1795446000@maybellecenter.org
SUMMARY:Community Room Open
DESCRIPTION:The Community Room is a safer space to gather and grow friendships. Come in for a cup of coffee and stay to connect with others over a game\, puzzle\, or with art supplies that are always available! \nThe Community Room is open Monday afternoons from 1-3 PM\, on Tuesdays\, Thursdays\, and Fridays from 10:30 AM-2:30 PM.
URL:https://maybellecenter.org/event/community-room-open-3-2/2026-11-23/
LOCATION:Maybelle Center Community Room\, 121 NW 6th Ave\, Portland\, 97209\, United States
CATEGORIES:Members,Volunteers
ATTACH;FMTTYPE=image/png:https://maybellecenter.org/wp-content/uploads/2025/07/Community-Room-Hours.png
END:VEVENT
BEGIN:VEVENT
DTSTART;TZID=America/Los_Angeles:20261126T133000
DTEND;TZID=America/Los_Angeles:20261126T143000
DTSTAMP:20260421T045645
CREATED:20251110T215514Z
LAST-MODIFIED:20251110T215515Z
UID:10003918-1795699800-1795703400@maybellecenter.org
SUMMARY:Birthday Party!
DESCRIPTION:Happy Birthday! On the last Thursday of every month\, we celebrate the birthdays of the members who had birthdays. Come for cake\, community\, and a celebration of another year (sugar-free and gluten-free treats available)!
URL:https://maybellecenter.org/event/birthday-party-2-2/2026-11-26/
LOCATION:Maybelle Center Community Room\, 121 NW 6th Ave\, Portland\, 97209\, United States
CATEGORIES:Members
ATTACH;FMTTYPE=image/png:https://maybellecenter.org/wp-content/uploads/2024/11/Birthday-party-2025-update.png
END:VEVENT
BEGIN:VEVENT
DTSTART;TZID=America/Los_Angeles:20261130T130000
DTEND;TZID=America/Los_Angeles:20261130T150000
DTSTAMP:20260421T045645
CREATED:20251110T213848Z
LAST-MODIFIED:20260420T051656Z
UID:10004729-1796043600-1796050800@maybellecenter.org
SUMMARY:Community Room Open
DESCRIPTION:The Community Room is a safer space to gather and grow friendships. Come in for a cup of coffee and stay to connect with others over a game\, puzzle\, or with art supplies that are always available! \nThe Community Room is open Monday afternoons from 1-3 PM\, on Tuesdays\, Thursdays\, and Fridays from 10:30 AM-2:30 PM.
URL:https://maybellecenter.org/event/community-room-open-3-2/2026-11-30/
LOCATION:Maybelle Center Community Room\, 121 NW 6th Ave\, Portland\, 97209\, United States
CATEGORIES:Members,Volunteers
ATTACH;FMTTYPE=image/png:https://maybellecenter.org/wp-content/uploads/2025/07/Community-Room-Hours.png
END:VEVENT
BEGIN:VEVENT
DTSTART;TZID=America/Los_Angeles:20261207T130000
DTEND;TZID=America/Los_Angeles:20261207T150000
DTSTAMP:20260421T045645
CREATED:20251110T213848Z
LAST-MODIFIED:20260420T051656Z
UID:10004730-1796648400-1796655600@maybellecenter.org
SUMMARY:Community Room Open
DESCRIPTION:The Community Room is a safer space to gather and grow friendships. Come in for a cup of coffee and stay to connect with others over a game\, puzzle\, or with art supplies that are always available! \nThe Community Room is open Monday afternoons from 1-3 PM\, on Tuesdays\, Thursdays\, and Fridays from 10:30 AM-2:30 PM.
URL:https://maybellecenter.org/event/community-room-open-3-2/2026-12-07/
LOCATION:Maybelle Center Community Room\, 121 NW 6th Ave\, Portland\, 97209\, United States
CATEGORIES:Members,Volunteers
ATTACH;FMTTYPE=image/png:https://maybellecenter.org/wp-content/uploads/2025/07/Community-Room-Hours.png
END:VEVENT
BEGIN:VEVENT
DTSTART;TZID=America/Los_Angeles:20261208T103000
DTEND;TZID=America/Los_Angeles:20261208T120000
DTSTAMP:20260421T045645
CREATED:20250102T190346Z
LAST-MODIFIED:20250102T190347Z
UID:10003740-1796725800-1796731200@maybellecenter.org
SUMMARY:CareOregon Advantage Q&A
DESCRIPTION:Bring your questions regarding aging or disability\, Medicare\, and disability services.
URL:https://maybellecenter.org/event/aging-and-disability-qa-4-2/2026-12-08/
LOCATION:Maybelle Center Community Room\, 121 NW 6th Ave\, Portland\, 97209\, United States
CATEGORIES:Members
ATTACH;FMTTYPE=image/png:https://maybellecenter.org/wp-content/uploads/2024/10/Aging-Disability-QA-2025-update-1.png
END:VEVENT
BEGIN:VEVENT
DTSTART;TZID=America/Los_Angeles:20261214T130000
DTEND;TZID=America/Los_Angeles:20261214T150000
DTSTAMP:20260421T045646
CREATED:20251110T213848Z
LAST-MODIFIED:20260420T051656Z
UID:10004731-1797253200-1797260400@maybellecenter.org
SUMMARY:Community Room Open
DESCRIPTION:The Community Room is a safer space to gather and grow friendships. Come in for a cup of coffee and stay to connect with others over a game\, puzzle\, or with art supplies that are always available! \nThe Community Room is open Monday afternoons from 1-3 PM\, on Tuesdays\, Thursdays\, and Fridays from 10:30 AM-2:30 PM.
URL:https://maybellecenter.org/event/community-room-open-3-2/2026-12-14/
LOCATION:Maybelle Center Community Room\, 121 NW 6th Ave\, Portland\, 97209\, United States
CATEGORIES:Members,Volunteers
ATTACH;FMTTYPE=image/png:https://maybellecenter.org/wp-content/uploads/2025/07/Community-Room-Hours.png
END:VEVENT
BEGIN:VEVENT
DTSTART;TZID=America/Los_Angeles:20261221T130000
DTEND;TZID=America/Los_Angeles:20261221T150000
DTSTAMP:20260421T045646
CREATED:20251110T213848Z
LAST-MODIFIED:20260420T051656Z
UID:10004732-1797858000-1797865200@maybellecenter.org
SUMMARY:Community Room Open
DESCRIPTION:The Community Room is a safer space to gather and grow friendships. Come in for a cup of coffee and stay to connect with others over a game\, puzzle\, or with art supplies that are always available! \nThe Community Room is open Monday afternoons from 1-3 PM\, on Tuesdays\, Thursdays\, and Fridays from 10:30 AM-2:30 PM.
URL:https://maybellecenter.org/event/community-room-open-3-2/2026-12-21/
LOCATION:Maybelle Center Community Room\, 121 NW 6th Ave\, Portland\, 97209\, United States
CATEGORIES:Members,Volunteers
ATTACH;FMTTYPE=image/png:https://maybellecenter.org/wp-content/uploads/2025/07/Community-Room-Hours.png
END:VEVENT
BEGIN:VEVENT
DTSTART;TZID=America/Los_Angeles:20261224T133000
DTEND;TZID=America/Los_Angeles:20261224T143000
DTSTAMP:20260421T045646
CREATED:20251110T215514Z
LAST-MODIFIED:20251110T215515Z
UID:10005818-1798119000-1798122600@maybellecenter.org
SUMMARY:Birthday Party!
DESCRIPTION:Happy Birthday! On the last Thursday of every month\, we celebrate the birthdays of the members who had birthdays. Come for cake\, community\, and a celebration of another year (sugar-free and gluten-free treats available)!
URL:https://maybellecenter.org/event/birthday-party-2-2/2026-12-24/
LOCATION:Maybelle Center Community Room\, 121 NW 6th Ave\, Portland\, 97209\, United States
CATEGORIES:Members
ATTACH;FMTTYPE=image/png:https://maybellecenter.org/wp-content/uploads/2024/11/Birthday-party-2025-update.png
END:VEVENT
BEGIN:VEVENT
DTSTART;TZID=America/Los_Angeles:20261228T130000
DTEND;TZID=America/Los_Angeles:20261228T150000
DTSTAMP:20260421T045646
CREATED:20251110T213848Z
LAST-MODIFIED:20260420T051656Z
UID:10004733-1798462800-1798470000@maybellecenter.org
SUMMARY:Community Room Open
DESCRIPTION:The Community Room is a safer space to gather and grow friendships. Come in for a cup of coffee and stay to connect with others over a game\, puzzle\, or with art supplies that are always available! \nThe Community Room is open Monday afternoons from 1-3 PM\, on Tuesdays\, Thursdays\, and Fridays from 10:30 AM-2:30 PM.
URL:https://maybellecenter.org/event/community-room-open-3-2/2026-12-28/
LOCATION:Maybelle Center Community Room\, 121 NW 6th Ave\, Portland\, 97209\, United States
CATEGORIES:Members,Volunteers
ATTACH;FMTTYPE=image/png:https://maybellecenter.org/wp-content/uploads/2025/07/Community-Room-Hours.png
END:VEVENT
BEGIN:VEVENT
DTSTART;TZID=America/Los_Angeles:20270104T130000
DTEND;TZID=America/Los_Angeles:20270104T150000
DTSTAMP:20260421T045646
CREATED:20251110T213848Z
LAST-MODIFIED:20260420T051656Z
UID:10004734-1799067600-1799074800@maybellecenter.org
SUMMARY:Community Room Open
DESCRIPTION:The Community Room is a safer space to gather and grow friendships. Come in for a cup of coffee and stay to connect with others over a game\, puzzle\, or with art supplies that are always available! \nThe Community Room is open Monday afternoons from 1-3 PM\, on Tuesdays\, Thursdays\, and Fridays from 10:30 AM-2:30 PM.
URL:https://maybellecenter.org/event/community-room-open-3-2/2027-01-04/
LOCATION:Maybelle Center Community Room\, 121 NW 6th Ave\, Portland\, 97209\, United States
CATEGORIES:Members,Volunteers
ATTACH;FMTTYPE=image/png:https://maybellecenter.org/wp-content/uploads/2025/07/Community-Room-Hours.png
END:VEVENT
END:VCALENDAR