BEGIN:VCALENDAR
VERSION:2.0
PRODID:-//Maybelle Center - ECPv6.15.20//NONSGML v1.0//EN
CALSCALE:GREGORIAN
METHOD:PUBLISH
X-ORIGINAL-URL:https://maybellecenter.org
X-WR-CALDESC:Events for Maybelle Center
REFRESH-INTERVAL;VALUE=DURATION:PT1H
X-Robots-Tag:noindex
X-PUBLISHED-TTL:PT1H
BEGIN:VTIMEZONE
TZID:America/Los_Angeles
BEGIN:DAYLIGHT
TZOFFSETFROM:-0800
TZOFFSETTO:-0700
TZNAME:PDT
DTSTART:20270314T100000
END:DAYLIGHT
BEGIN:STANDARD
TZOFFSETFROM:-0700
TZOFFSETTO:-0800
TZNAME:PST
DTSTART:20271107T090000
END:STANDARD
BEGIN:DAYLIGHT
TZOFFSETFROM:-0800
TZOFFSETTO:-0700
TZNAME:PDT
DTSTART:20280312T100000
END:DAYLIGHT
BEGIN:STANDARD
TZOFFSETFROM:-0700
TZOFFSETTO:-0800
TZNAME:PST
DTSTART:20281105T090000
END:STANDARD
BEGIN:DAYLIGHT
TZOFFSETFROM:-0800
TZOFFSETTO:-0700
TZNAME:PDT
DTSTART:20290311T100000
END:DAYLIGHT
BEGIN:STANDARD
TZOFFSETFROM:-0700
TZOFFSETTO:-0800
TZNAME:PST
DTSTART:20291104T090000
END:STANDARD
BEGIN:DAYLIGHT
TZOFFSETFROM:-0800
TZOFFSETTO:-0700
TZNAME:PDT
DTSTART:20300310T100000
END:DAYLIGHT
BEGIN:STANDARD
TZOFFSETFROM:-0700
TZOFFSETTO:-0800
TZNAME:PST
DTSTART:20301103T090000
END:STANDARD
END:VTIMEZONE
BEGIN:VEVENT
DTSTART;TZID=America/Los_Angeles:20280904T130000
DTEND;TZID=America/Los_Angeles:20280904T150000
DTSTAMP:20260422T022029
CREATED:20251110T213848Z
LAST-MODIFIED:20260420T051656Z
UID:10004821-1851685200-1851692400@maybellecenter.org
SUMMARY:Community Room Open
DESCRIPTION:The Community Room is a safer space to gather and grow friendships. Come in for a cup of coffee and stay to connect with others over a game\, puzzle\, or with art supplies that are always available! \nThe Community Room is open Monday afternoons from 1-3 PM\, on Tuesdays\, Thursdays\, and Fridays from 10:30 AM-2:30 PM.
URL:https://maybellecenter.org/event/community-room-open-3-2/2028-09-04/
LOCATION:Maybelle Center Community Room\, 121 NW 6th Ave\, Portland\, 97209\, United States
CATEGORIES:Members,Volunteers
ATTACH;FMTTYPE=image/png:https://maybellecenter.org/wp-content/uploads/2025/07/Community-Room-Hours.png
END:VEVENT
BEGIN:VEVENT
DTSTART;TZID=America/Los_Angeles:20280911T130000
DTEND;TZID=America/Los_Angeles:20280911T150000
DTSTAMP:20260422T022029
CREATED:20251110T213848Z
LAST-MODIFIED:20260420T051656Z
UID:10004822-1852290000-1852297200@maybellecenter.org
SUMMARY:Community Room Open
DESCRIPTION:The Community Room is a safer space to gather and grow friendships. Come in for a cup of coffee and stay to connect with others over a game\, puzzle\, or with art supplies that are always available! \nThe Community Room is open Monday afternoons from 1-3 PM\, on Tuesdays\, Thursdays\, and Fridays from 10:30 AM-2:30 PM.
URL:https://maybellecenter.org/event/community-room-open-3-2/2028-09-11/
LOCATION:Maybelle Center Community Room\, 121 NW 6th Ave\, Portland\, 97209\, United States
CATEGORIES:Members,Volunteers
ATTACH;FMTTYPE=image/png:https://maybellecenter.org/wp-content/uploads/2025/07/Community-Room-Hours.png
END:VEVENT
BEGIN:VEVENT
DTSTART;TZID=America/Los_Angeles:20280912T103000
DTEND;TZID=America/Los_Angeles:20280912T120000
DTSTAMP:20260422T022029
CREATED:20250102T190346Z
LAST-MODIFIED:20250102T190347Z
UID:10003761-1852367400-1852372800@maybellecenter.org
SUMMARY:CareOregon Advantage Q&A
DESCRIPTION:Bring your questions regarding aging or disability\, Medicare\, and disability services.
URL:https://maybellecenter.org/event/aging-and-disability-qa-4-2/2028-09-12/
LOCATION:Maybelle Center Community Room\, 121 NW 6th Ave\, Portland\, 97209\, United States
CATEGORIES:Members
ATTACH;FMTTYPE=image/png:https://maybellecenter.org/wp-content/uploads/2024/10/Aging-Disability-QA-2025-update-1.png
END:VEVENT
BEGIN:VEVENT
DTSTART;TZID=America/Los_Angeles:20280918T130000
DTEND;TZID=America/Los_Angeles:20280918T150000
DTSTAMP:20260422T022029
CREATED:20251110T213848Z
LAST-MODIFIED:20260420T051656Z
UID:10004823-1852894800-1852902000@maybellecenter.org
SUMMARY:Community Room Open
DESCRIPTION:The Community Room is a safer space to gather and grow friendships. Come in for a cup of coffee and stay to connect with others over a game\, puzzle\, or with art supplies that are always available! \nThe Community Room is open Monday afternoons from 1-3 PM\, on Tuesdays\, Thursdays\, and Fridays from 10:30 AM-2:30 PM.
URL:https://maybellecenter.org/event/community-room-open-3-2/2028-09-18/
LOCATION:Maybelle Center Community Room\, 121 NW 6th Ave\, Portland\, 97209\, United States
CATEGORIES:Members,Volunteers
ATTACH;FMTTYPE=image/png:https://maybellecenter.org/wp-content/uploads/2025/07/Community-Room-Hours.png
END:VEVENT
BEGIN:VEVENT
DTSTART;TZID=America/Los_Angeles:20280925T130000
DTEND;TZID=America/Los_Angeles:20280925T150000
DTSTAMP:20260422T022029
CREATED:20251110T213848Z
LAST-MODIFIED:20260420T051656Z
UID:10004824-1853499600-1853506800@maybellecenter.org
SUMMARY:Community Room Open
DESCRIPTION:The Community Room is a safer space to gather and grow friendships. Come in for a cup of coffee and stay to connect with others over a game\, puzzle\, or with art supplies that are always available! \nThe Community Room is open Monday afternoons from 1-3 PM\, on Tuesdays\, Thursdays\, and Fridays from 10:30 AM-2:30 PM.
URL:https://maybellecenter.org/event/community-room-open-3-2/2028-09-25/
LOCATION:Maybelle Center Community Room\, 121 NW 6th Ave\, Portland\, 97209\, United States
CATEGORIES:Members,Volunteers
ATTACH;FMTTYPE=image/png:https://maybellecenter.org/wp-content/uploads/2025/07/Community-Room-Hours.png
END:VEVENT
BEGIN:VEVENT
DTSTART;TZID=America/Los_Angeles:20280928T133000
DTEND;TZID=America/Los_Angeles:20280928T143000
DTSTAMP:20260422T022029
CREATED:20251110T215514Z
LAST-MODIFIED:20251110T215515Z
UID:10003940-1853760600-1853764200@maybellecenter.org
SUMMARY:Birthday Party!
DESCRIPTION:Happy Birthday! On the last Thursday of every month\, we celebrate the birthdays of the members who had birthdays. Come for cake\, community\, and a celebration of another year (sugar-free and gluten-free treats available)!
URL:https://maybellecenter.org/event/birthday-party-2-2/2028-09-28/
LOCATION:Maybelle Center Community Room\, 121 NW 6th Ave\, Portland\, 97209\, United States
CATEGORIES:Members
ATTACH;FMTTYPE=image/png:https://maybellecenter.org/wp-content/uploads/2024/11/Birthday-party-2025-update.png
END:VEVENT
BEGIN:VEVENT
DTSTART;TZID=America/Los_Angeles:20281002T130000
DTEND;TZID=America/Los_Angeles:20281002T150000
DTSTAMP:20260422T022029
CREATED:20251110T213848Z
LAST-MODIFIED:20260420T051656Z
UID:10004825-1854104400-1854111600@maybellecenter.org
SUMMARY:Community Room Open
DESCRIPTION:The Community Room is a safer space to gather and grow friendships. Come in for a cup of coffee and stay to connect with others over a game\, puzzle\, or with art supplies that are always available! \nThe Community Room is open Monday afternoons from 1-3 PM\, on Tuesdays\, Thursdays\, and Fridays from 10:30 AM-2:30 PM.
URL:https://maybellecenter.org/event/community-room-open-3-2/2028-10-02/
LOCATION:Maybelle Center Community Room\, 121 NW 6th Ave\, Portland\, 97209\, United States
CATEGORIES:Members,Volunteers
ATTACH;FMTTYPE=image/png:https://maybellecenter.org/wp-content/uploads/2025/07/Community-Room-Hours.png
END:VEVENT
BEGIN:VEVENT
DTSTART;TZID=America/Los_Angeles:20281009T130000
DTEND;TZID=America/Los_Angeles:20281009T150000
DTSTAMP:20260422T022029
CREATED:20251110T213848Z
LAST-MODIFIED:20260420T051656Z
UID:10004826-1854709200-1854716400@maybellecenter.org
SUMMARY:Community Room Open
DESCRIPTION:The Community Room is a safer space to gather and grow friendships. Come in for a cup of coffee and stay to connect with others over a game\, puzzle\, or with art supplies that are always available! \nThe Community Room is open Monday afternoons from 1-3 PM\, on Tuesdays\, Thursdays\, and Fridays from 10:30 AM-2:30 PM.
URL:https://maybellecenter.org/event/community-room-open-3-2/2028-10-09/
LOCATION:Maybelle Center Community Room\, 121 NW 6th Ave\, Portland\, 97209\, United States
CATEGORIES:Members,Volunteers
ATTACH;FMTTYPE=image/png:https://maybellecenter.org/wp-content/uploads/2025/07/Community-Room-Hours.png
END:VEVENT
BEGIN:VEVENT
DTSTART;TZID=America/Los_Angeles:20281010T103000
DTEND;TZID=America/Los_Angeles:20281010T120000
DTSTAMP:20260422T022029
CREATED:20250102T190346Z
LAST-MODIFIED:20250102T190347Z
UID:10003762-1854786600-1854792000@maybellecenter.org
SUMMARY:CareOregon Advantage Q&A
DESCRIPTION:Bring your questions regarding aging or disability\, Medicare\, and disability services.
URL:https://maybellecenter.org/event/aging-and-disability-qa-4-2/2028-10-10/
LOCATION:Maybelle Center Community Room\, 121 NW 6th Ave\, Portland\, 97209\, United States
CATEGORIES:Members
ATTACH;FMTTYPE=image/png:https://maybellecenter.org/wp-content/uploads/2024/10/Aging-Disability-QA-2025-update-1.png
END:VEVENT
BEGIN:VEVENT
DTSTART;TZID=America/Los_Angeles:20281016T130000
DTEND;TZID=America/Los_Angeles:20281016T150000
DTSTAMP:20260422T022029
CREATED:20251110T213848Z
LAST-MODIFIED:20260420T051656Z
UID:10004827-1855314000-1855321200@maybellecenter.org
SUMMARY:Community Room Open
DESCRIPTION:The Community Room is a safer space to gather and grow friendships. Come in for a cup of coffee and stay to connect with others over a game\, puzzle\, or with art supplies that are always available! \nThe Community Room is open Monday afternoons from 1-3 PM\, on Tuesdays\, Thursdays\, and Fridays from 10:30 AM-2:30 PM.
URL:https://maybellecenter.org/event/community-room-open-3-2/2028-10-16/
LOCATION:Maybelle Center Community Room\, 121 NW 6th Ave\, Portland\, 97209\, United States
CATEGORIES:Members,Volunteers
ATTACH;FMTTYPE=image/png:https://maybellecenter.org/wp-content/uploads/2025/07/Community-Room-Hours.png
END:VEVENT
BEGIN:VEVENT
DTSTART;TZID=America/Los_Angeles:20281023T130000
DTEND;TZID=America/Los_Angeles:20281023T150000
DTSTAMP:20260422T022029
CREATED:20251110T213848Z
LAST-MODIFIED:20260420T051656Z
UID:10004828-1855918800-1855926000@maybellecenter.org
SUMMARY:Community Room Open
DESCRIPTION:The Community Room is a safer space to gather and grow friendships. Come in for a cup of coffee and stay to connect with others over a game\, puzzle\, or with art supplies that are always available! \nThe Community Room is open Monday afternoons from 1-3 PM\, on Tuesdays\, Thursdays\, and Fridays from 10:30 AM-2:30 PM.
URL:https://maybellecenter.org/event/community-room-open-3-2/2028-10-23/
LOCATION:Maybelle Center Community Room\, 121 NW 6th Ave\, Portland\, 97209\, United States
CATEGORIES:Members,Volunteers
ATTACH;FMTTYPE=image/png:https://maybellecenter.org/wp-content/uploads/2025/07/Community-Room-Hours.png
END:VEVENT
BEGIN:VEVENT
DTSTART;TZID=America/Los_Angeles:20281026T133000
DTEND;TZID=America/Los_Angeles:20281026T143000
DTSTAMP:20260422T022029
CREATED:20251110T215514Z
LAST-MODIFIED:20251110T215515Z
UID:10003941-1856179800-1856183400@maybellecenter.org
SUMMARY:Birthday Party!
DESCRIPTION:Happy Birthday! On the last Thursday of every month\, we celebrate the birthdays of the members who had birthdays. Come for cake\, community\, and a celebration of another year (sugar-free and gluten-free treats available)!
URL:https://maybellecenter.org/event/birthday-party-2-2/2028-10-26/
LOCATION:Maybelle Center Community Room\, 121 NW 6th Ave\, Portland\, 97209\, United States
CATEGORIES:Members
ATTACH;FMTTYPE=image/png:https://maybellecenter.org/wp-content/uploads/2024/11/Birthday-party-2025-update.png
END:VEVENT
BEGIN:VEVENT
DTSTART;TZID=America/Los_Angeles:20281030T130000
DTEND;TZID=America/Los_Angeles:20281030T150000
DTSTAMP:20260422T022029
CREATED:20251110T213848Z
LAST-MODIFIED:20260420T051656Z
UID:10004829-1856523600-1856530800@maybellecenter.org
SUMMARY:Community Room Open
DESCRIPTION:The Community Room is a safer space to gather and grow friendships. Come in for a cup of coffee and stay to connect with others over a game\, puzzle\, or with art supplies that are always available! \nThe Community Room is open Monday afternoons from 1-3 PM\, on Tuesdays\, Thursdays\, and Fridays from 10:30 AM-2:30 PM.
URL:https://maybellecenter.org/event/community-room-open-3-2/2028-10-30/
LOCATION:Maybelle Center Community Room\, 121 NW 6th Ave\, Portland\, 97209\, United States
CATEGORIES:Members,Volunteers
ATTACH;FMTTYPE=image/png:https://maybellecenter.org/wp-content/uploads/2025/07/Community-Room-Hours.png
END:VEVENT
BEGIN:VEVENT
DTSTART;TZID=America/Los_Angeles:20281106T130000
DTEND;TZID=America/Los_Angeles:20281106T150000
DTSTAMP:20260422T022029
CREATED:20251110T213848Z
LAST-MODIFIED:20260420T051656Z
UID:10004830-1857128400-1857135600@maybellecenter.org
SUMMARY:Community Room Open
DESCRIPTION:The Community Room is a safer space to gather and grow friendships. Come in for a cup of coffee and stay to connect with others over a game\, puzzle\, or with art supplies that are always available! \nThe Community Room is open Monday afternoons from 1-3 PM\, on Tuesdays\, Thursdays\, and Fridays from 10:30 AM-2:30 PM.
URL:https://maybellecenter.org/event/community-room-open-3-2/2028-11-06/
LOCATION:Maybelle Center Community Room\, 121 NW 6th Ave\, Portland\, 97209\, United States
CATEGORIES:Members,Volunteers
ATTACH;FMTTYPE=image/png:https://maybellecenter.org/wp-content/uploads/2025/07/Community-Room-Hours.png
END:VEVENT
BEGIN:VEVENT
DTSTART;TZID=America/Los_Angeles:20281113T130000
DTEND;TZID=America/Los_Angeles:20281113T150000
DTSTAMP:20260422T022029
CREATED:20251110T213848Z
LAST-MODIFIED:20260420T051656Z
UID:10004831-1857733200-1857740400@maybellecenter.org
SUMMARY:Community Room Open
DESCRIPTION:The Community Room is a safer space to gather and grow friendships. Come in for a cup of coffee and stay to connect with others over a game\, puzzle\, or with art supplies that are always available! \nThe Community Room is open Monday afternoons from 1-3 PM\, on Tuesdays\, Thursdays\, and Fridays from 10:30 AM-2:30 PM.
URL:https://maybellecenter.org/event/community-room-open-3-2/2028-11-13/
LOCATION:Maybelle Center Community Room\, 121 NW 6th Ave\, Portland\, 97209\, United States
CATEGORIES:Members,Volunteers
ATTACH;FMTTYPE=image/png:https://maybellecenter.org/wp-content/uploads/2025/07/Community-Room-Hours.png
END:VEVENT
BEGIN:VEVENT
DTSTART;TZID=America/Los_Angeles:20281114T103000
DTEND;TZID=America/Los_Angeles:20281114T120000
DTSTAMP:20260422T022029
CREATED:20250102T190346Z
LAST-MODIFIED:20250102T190347Z
UID:10003763-1857810600-1857816000@maybellecenter.org
SUMMARY:CareOregon Advantage Q&A
DESCRIPTION:Bring your questions regarding aging or disability\, Medicare\, and disability services.
URL:https://maybellecenter.org/event/aging-and-disability-qa-4-2/2028-11-14/
LOCATION:Maybelle Center Community Room\, 121 NW 6th Ave\, Portland\, 97209\, United States
CATEGORIES:Members
ATTACH;FMTTYPE=image/png:https://maybellecenter.org/wp-content/uploads/2024/10/Aging-Disability-QA-2025-update-1.png
END:VEVENT
BEGIN:VEVENT
DTSTART;TZID=America/Los_Angeles:20281120T130000
DTEND;TZID=America/Los_Angeles:20281120T150000
DTSTAMP:20260422T022029
CREATED:20251110T213848Z
LAST-MODIFIED:20260420T051656Z
UID:10004832-1858338000-1858345200@maybellecenter.org
SUMMARY:Community Room Open
DESCRIPTION:The Community Room is a safer space to gather and grow friendships. Come in for a cup of coffee and stay to connect with others over a game\, puzzle\, or with art supplies that are always available! \nThe Community Room is open Monday afternoons from 1-3 PM\, on Tuesdays\, Thursdays\, and Fridays from 10:30 AM-2:30 PM.
URL:https://maybellecenter.org/event/community-room-open-3-2/2028-11-20/
LOCATION:Maybelle Center Community Room\, 121 NW 6th Ave\, Portland\, 97209\, United States
CATEGORIES:Members,Volunteers
ATTACH;FMTTYPE=image/png:https://maybellecenter.org/wp-content/uploads/2025/07/Community-Room-Hours.png
END:VEVENT
BEGIN:VEVENT
DTSTART;TZID=America/Los_Angeles:20281123T133000
DTEND;TZID=America/Los_Angeles:20281123T143000
DTSTAMP:20260422T022029
CREATED:20251110T215514Z
LAST-MODIFIED:20251110T215515Z
UID:10005826-1858599000-1858602600@maybellecenter.org
SUMMARY:Birthday Party!
DESCRIPTION:Happy Birthday! On the last Thursday of every month\, we celebrate the birthdays of the members who had birthdays. Come for cake\, community\, and a celebration of another year (sugar-free and gluten-free treats available)!
URL:https://maybellecenter.org/event/birthday-party-2-2/2028-11-23/
LOCATION:Maybelle Center Community Room\, 121 NW 6th Ave\, Portland\, 97209\, United States
CATEGORIES:Members
ATTACH;FMTTYPE=image/png:https://maybellecenter.org/wp-content/uploads/2024/11/Birthday-party-2025-update.png
END:VEVENT
BEGIN:VEVENT
DTSTART;TZID=America/Los_Angeles:20281127T130000
DTEND;TZID=America/Los_Angeles:20281127T150000
DTSTAMP:20260422T022029
CREATED:20251110T213848Z
LAST-MODIFIED:20260420T051656Z
UID:10004833-1858942800-1858950000@maybellecenter.org
SUMMARY:Community Room Open
DESCRIPTION:The Community Room is a safer space to gather and grow friendships. Come in for a cup of coffee and stay to connect with others over a game\, puzzle\, or with art supplies that are always available! \nThe Community Room is open Monday afternoons from 1-3 PM\, on Tuesdays\, Thursdays\, and Fridays from 10:30 AM-2:30 PM.
URL:https://maybellecenter.org/event/community-room-open-3-2/2028-11-27/
LOCATION:Maybelle Center Community Room\, 121 NW 6th Ave\, Portland\, 97209\, United States
CATEGORIES:Members,Volunteers
ATTACH;FMTTYPE=image/png:https://maybellecenter.org/wp-content/uploads/2025/07/Community-Room-Hours.png
END:VEVENT
BEGIN:VEVENT
DTSTART;TZID=America/Los_Angeles:20281204T130000
DTEND;TZID=America/Los_Angeles:20281204T150000
DTSTAMP:20260422T022029
CREATED:20251110T213848Z
LAST-MODIFIED:20260420T051656Z
UID:10004834-1859547600-1859554800@maybellecenter.org
SUMMARY:Community Room Open
DESCRIPTION:The Community Room is a safer space to gather and grow friendships. Come in for a cup of coffee and stay to connect with others over a game\, puzzle\, or with art supplies that are always available! \nThe Community Room is open Monday afternoons from 1-3 PM\, on Tuesdays\, Thursdays\, and Fridays from 10:30 AM-2:30 PM.
URL:https://maybellecenter.org/event/community-room-open-3-2/2028-12-04/
LOCATION:Maybelle Center Community Room\, 121 NW 6th Ave\, Portland\, 97209\, United States
CATEGORIES:Members,Volunteers
ATTACH;FMTTYPE=image/png:https://maybellecenter.org/wp-content/uploads/2025/07/Community-Room-Hours.png
END:VEVENT
BEGIN:VEVENT
DTSTART;TZID=America/Los_Angeles:20281211T130000
DTEND;TZID=America/Los_Angeles:20281211T150000
DTSTAMP:20260422T022029
CREATED:20251110T213848Z
LAST-MODIFIED:20260420T051656Z
UID:10004835-1860152400-1860159600@maybellecenter.org
SUMMARY:Community Room Open
DESCRIPTION:The Community Room is a safer space to gather and grow friendships. Come in for a cup of coffee and stay to connect with others over a game\, puzzle\, or with art supplies that are always available! \nThe Community Room is open Monday afternoons from 1-3 PM\, on Tuesdays\, Thursdays\, and Fridays from 10:30 AM-2:30 PM.
URL:https://maybellecenter.org/event/community-room-open-3-2/2028-12-11/
LOCATION:Maybelle Center Community Room\, 121 NW 6th Ave\, Portland\, 97209\, United States
CATEGORIES:Members,Volunteers
ATTACH;FMTTYPE=image/png:https://maybellecenter.org/wp-content/uploads/2025/07/Community-Room-Hours.png
END:VEVENT
BEGIN:VEVENT
DTSTART;TZID=America/Los_Angeles:20281212T103000
DTEND;TZID=America/Los_Angeles:20281212T120000
DTSTAMP:20260422T022029
CREATED:20250102T190346Z
LAST-MODIFIED:20250102T190347Z
UID:10003764-1860229800-1860235200@maybellecenter.org
SUMMARY:CareOregon Advantage Q&A
DESCRIPTION:Bring your questions regarding aging or disability\, Medicare\, and disability services.
URL:https://maybellecenter.org/event/aging-and-disability-qa-4-2/2028-12-12/
LOCATION:Maybelle Center Community Room\, 121 NW 6th Ave\, Portland\, 97209\, United States
CATEGORIES:Members
ATTACH;FMTTYPE=image/png:https://maybellecenter.org/wp-content/uploads/2024/10/Aging-Disability-QA-2025-update-1.png
END:VEVENT
BEGIN:VEVENT
DTSTART;TZID=America/Los_Angeles:20281218T130000
DTEND;TZID=America/Los_Angeles:20281218T150000
DTSTAMP:20260422T022029
CREATED:20251110T213848Z
LAST-MODIFIED:20260420T051656Z
UID:10004836-1860757200-1860764400@maybellecenter.org
SUMMARY:Community Room Open
DESCRIPTION:The Community Room is a safer space to gather and grow friendships. Come in for a cup of coffee and stay to connect with others over a game\, puzzle\, or with art supplies that are always available! \nThe Community Room is open Monday afternoons from 1-3 PM\, on Tuesdays\, Thursdays\, and Fridays from 10:30 AM-2:30 PM.
URL:https://maybellecenter.org/event/community-room-open-3-2/2028-12-18/
LOCATION:Maybelle Center Community Room\, 121 NW 6th Ave\, Portland\, 97209\, United States
CATEGORIES:Members,Volunteers
ATTACH;FMTTYPE=image/png:https://maybellecenter.org/wp-content/uploads/2025/07/Community-Room-Hours.png
END:VEVENT
BEGIN:VEVENT
DTSTART;TZID=America/Los_Angeles:20281225T130000
DTEND;TZID=America/Los_Angeles:20281225T150000
DTSTAMP:20260422T022029
CREATED:20251110T213848Z
LAST-MODIFIED:20260420T051656Z
UID:10004837-1861362000-1861369200@maybellecenter.org
SUMMARY:Community Room Open
DESCRIPTION:The Community Room is a safer space to gather and grow friendships. Come in for a cup of coffee and stay to connect with others over a game\, puzzle\, or with art supplies that are always available! \nThe Community Room is open Monday afternoons from 1-3 PM\, on Tuesdays\, Thursdays\, and Fridays from 10:30 AM-2:30 PM.
URL:https://maybellecenter.org/event/community-room-open-3-2/2028-12-25/
LOCATION:Maybelle Center Community Room\, 121 NW 6th Ave\, Portland\, 97209\, United States
CATEGORIES:Members,Volunteers
ATTACH;FMTTYPE=image/png:https://maybellecenter.org/wp-content/uploads/2025/07/Community-Room-Hours.png
END:VEVENT
BEGIN:VEVENT
DTSTART;TZID=America/Los_Angeles:20281228T133000
DTEND;TZID=America/Los_Angeles:20281228T143000
DTSTAMP:20260422T022029
CREATED:20251110T215514Z
LAST-MODIFIED:20251110T215515Z
UID:10003943-1861623000-1861626600@maybellecenter.org
SUMMARY:Birthday Party!
DESCRIPTION:Happy Birthday! On the last Thursday of every month\, we celebrate the birthdays of the members who had birthdays. Come for cake\, community\, and a celebration of another year (sugar-free and gluten-free treats available)!
URL:https://maybellecenter.org/event/birthday-party-2-2/2028-12-28/
LOCATION:Maybelle Center Community Room\, 121 NW 6th Ave\, Portland\, 97209\, United States
CATEGORIES:Members
ATTACH;FMTTYPE=image/png:https://maybellecenter.org/wp-content/uploads/2024/11/Birthday-party-2025-update.png
END:VEVENT
BEGIN:VEVENT
DTSTART;TZID=America/Los_Angeles:20290101T130000
DTEND;TZID=America/Los_Angeles:20290101T150000
DTSTAMP:20260422T022029
CREATED:20251110T213848Z
LAST-MODIFIED:20260420T051656Z
UID:10004838-1861966800-1861974000@maybellecenter.org
SUMMARY:Community Room Open
DESCRIPTION:The Community Room is a safer space to gather and grow friendships. Come in for a cup of coffee and stay to connect with others over a game\, puzzle\, or with art supplies that are always available! \nThe Community Room is open Monday afternoons from 1-3 PM\, on Tuesdays\, Thursdays\, and Fridays from 10:30 AM-2:30 PM.
URL:https://maybellecenter.org/event/community-room-open-3-2/2029-01-01/
LOCATION:Maybelle Center Community Room\, 121 NW 6th Ave\, Portland\, 97209\, United States
CATEGORIES:Members,Volunteers
ATTACH;FMTTYPE=image/png:https://maybellecenter.org/wp-content/uploads/2025/07/Community-Room-Hours.png
END:VEVENT
BEGIN:VEVENT
DTSTART;TZID=America/Los_Angeles:20290108T130000
DTEND;TZID=America/Los_Angeles:20290108T150000
DTSTAMP:20260422T022029
CREATED:20251110T213848Z
LAST-MODIFIED:20260420T051656Z
UID:10004839-1862571600-1862578800@maybellecenter.org
SUMMARY:Community Room Open
DESCRIPTION:The Community Room is a safer space to gather and grow friendships. Come in for a cup of coffee and stay to connect with others over a game\, puzzle\, or with art supplies that are always available! \nThe Community Room is open Monday afternoons from 1-3 PM\, on Tuesdays\, Thursdays\, and Fridays from 10:30 AM-2:30 PM.
URL:https://maybellecenter.org/event/community-room-open-3-2/2029-01-08/
LOCATION:Maybelle Center Community Room\, 121 NW 6th Ave\, Portland\, 97209\, United States
CATEGORIES:Members,Volunteers
ATTACH;FMTTYPE=image/png:https://maybellecenter.org/wp-content/uploads/2025/07/Community-Room-Hours.png
END:VEVENT
BEGIN:VEVENT
DTSTART;TZID=America/Los_Angeles:20290109T103000
DTEND;TZID=America/Los_Angeles:20290109T120000
DTSTAMP:20260422T022029
CREATED:20250102T190346Z
LAST-MODIFIED:20250102T190347Z
UID:10003765-1862649000-1862654400@maybellecenter.org
SUMMARY:CareOregon Advantage Q&A
DESCRIPTION:Bring your questions regarding aging or disability\, Medicare\, and disability services.
URL:https://maybellecenter.org/event/aging-and-disability-qa-4-2/2029-01-09/
LOCATION:Maybelle Center Community Room\, 121 NW 6th Ave\, Portland\, 97209\, United States
CATEGORIES:Members
ATTACH;FMTTYPE=image/png:https://maybellecenter.org/wp-content/uploads/2024/10/Aging-Disability-QA-2025-update-1.png
END:VEVENT
BEGIN:VEVENT
DTSTART;TZID=America/Los_Angeles:20290115T130000
DTEND;TZID=America/Los_Angeles:20290115T150000
DTSTAMP:20260422T022029
CREATED:20251110T213848Z
LAST-MODIFIED:20260420T051656Z
UID:10004840-1863176400-1863183600@maybellecenter.org
SUMMARY:Community Room Open
DESCRIPTION:The Community Room is a safer space to gather and grow friendships. Come in for a cup of coffee and stay to connect with others over a game\, puzzle\, or with art supplies that are always available! \nThe Community Room is open Monday afternoons from 1-3 PM\, on Tuesdays\, Thursdays\, and Fridays from 10:30 AM-2:30 PM.
URL:https://maybellecenter.org/event/community-room-open-3-2/2029-01-15/
LOCATION:Maybelle Center Community Room\, 121 NW 6th Ave\, Portland\, 97209\, United States
CATEGORIES:Members,Volunteers
ATTACH;FMTTYPE=image/png:https://maybellecenter.org/wp-content/uploads/2025/07/Community-Room-Hours.png
END:VEVENT
BEGIN:VEVENT
DTSTART;TZID=America/Los_Angeles:20290122T130000
DTEND;TZID=America/Los_Angeles:20290122T150000
DTSTAMP:20260422T022029
CREATED:20251110T213848Z
LAST-MODIFIED:20260420T051656Z
UID:10004841-1863781200-1863788400@maybellecenter.org
SUMMARY:Community Room Open
DESCRIPTION:The Community Room is a safer space to gather and grow friendships. Come in for a cup of coffee and stay to connect with others over a game\, puzzle\, or with art supplies that are always available! \nThe Community Room is open Monday afternoons from 1-3 PM\, on Tuesdays\, Thursdays\, and Fridays from 10:30 AM-2:30 PM.
URL:https://maybellecenter.org/event/community-room-open-3-2/2029-01-22/
LOCATION:Maybelle Center Community Room\, 121 NW 6th Ave\, Portland\, 97209\, United States
CATEGORIES:Members,Volunteers
ATTACH;FMTTYPE=image/png:https://maybellecenter.org/wp-content/uploads/2025/07/Community-Room-Hours.png
END:VEVENT
END:VCALENDAR