BEGIN:VCALENDAR
VERSION:2.0
PRODID:-//Maybelle Center - ECPv6.15.20//NONSGML v1.0//EN
CALSCALE:GREGORIAN
METHOD:PUBLISH
X-WR-CALNAME:Maybelle Center
X-ORIGINAL-URL:https://maybellecenter.org
X-WR-CALDESC:Events for Maybelle Center
REFRESH-INTERVAL;VALUE=DURATION:PT1H
X-Robots-Tag:noindex
X-PUBLISHED-TTL:PT1H
BEGIN:VTIMEZONE
TZID:America/Los_Angeles
BEGIN:DAYLIGHT
TZOFFSETFROM:-0800
TZOFFSETTO:-0700
TZNAME:PDT
DTSTART:20260308T100000
END:DAYLIGHT
BEGIN:STANDARD
TZOFFSETFROM:-0700
TZOFFSETTO:-0800
TZNAME:PST
DTSTART:20261101T090000
END:STANDARD
BEGIN:DAYLIGHT
TZOFFSETFROM:-0800
TZOFFSETTO:-0700
TZNAME:PDT
DTSTART:20270314T100000
END:DAYLIGHT
BEGIN:STANDARD
TZOFFSETFROM:-0700
TZOFFSETTO:-0800
TZNAME:PST
DTSTART:20271107T090000
END:STANDARD
BEGIN:DAYLIGHT
TZOFFSETFROM:-0800
TZOFFSETTO:-0700
TZNAME:PDT
DTSTART:20280312T100000
END:DAYLIGHT
BEGIN:STANDARD
TZOFFSETFROM:-0700
TZOFFSETTO:-0800
TZNAME:PST
DTSTART:20281105T090000
END:STANDARD
END:VTIMEZONE
BEGIN:VEVENT
DTSTART;TZID=America/Los_Angeles:20270401T144500
DTEND;TZID=America/Los_Angeles:20270401T161500
DTSTAMP:20260419T142658
CREATED:20260312T011939Z
LAST-MODIFIED:20260312T011939Z
UID:10006498-1806590700-1806596100@maybellecenter.org
SUMMARY:Theatre
DESCRIPTION:Join us as we revive the Fairly Odd Theatre troupe—an uplifting space to connect\, belong\, and express yourself. Theatre at Maybelle brings people together\, strengthens community\, and supports our mission of reducing isolation. Come be part of the story (no experience necessary)!
URL:https://maybellecenter.org/event/theatre/2027-04-01/
LOCATION:Maybelle Center Community Room\, 121 NW 6th Ave\, Portland\, 97209\, United States
CATEGORIES:Members,Volunteers
ATTACH;FMTTYPE=image/png:https://maybellecenter.org/wp-content/uploads/2026/03/Community-Theatre.png
END:VEVENT
BEGIN:VEVENT
DTSTART;TZID=America/Los_Angeles:20270408T144500
DTEND;TZID=America/Los_Angeles:20270408T161500
DTSTAMP:20260419T142658
CREATED:20260312T011939Z
LAST-MODIFIED:20260312T011939Z
UID:10006499-1807195500-1807200900@maybellecenter.org
SUMMARY:Theatre
DESCRIPTION:Join us as we revive the Fairly Odd Theatre troupe—an uplifting space to connect\, belong\, and express yourself. Theatre at Maybelle brings people together\, strengthens community\, and supports our mission of reducing isolation. Come be part of the story (no experience necessary)!
URL:https://maybellecenter.org/event/theatre/2027-04-08/
LOCATION:Maybelle Center Community Room\, 121 NW 6th Ave\, Portland\, 97209\, United States
CATEGORIES:Members,Volunteers
ATTACH;FMTTYPE=image/png:https://maybellecenter.org/wp-content/uploads/2026/03/Community-Theatre.png
END:VEVENT
BEGIN:VEVENT
DTSTART;TZID=America/Los_Angeles:20270415T144500
DTEND;TZID=America/Los_Angeles:20270415T161500
DTSTAMP:20260419T142658
CREATED:20260312T011939Z
LAST-MODIFIED:20260312T011939Z
UID:10006500-1807800300-1807805700@maybellecenter.org
SUMMARY:Theatre
DESCRIPTION:Join us as we revive the Fairly Odd Theatre troupe—an uplifting space to connect\, belong\, and express yourself. Theatre at Maybelle brings people together\, strengthens community\, and supports our mission of reducing isolation. Come be part of the story (no experience necessary)!
URL:https://maybellecenter.org/event/theatre/2027-04-15/
LOCATION:Maybelle Center Community Room\, 121 NW 6th Ave\, Portland\, 97209\, United States
CATEGORIES:Members,Volunteers
ATTACH;FMTTYPE=image/png:https://maybellecenter.org/wp-content/uploads/2026/03/Community-Theatre.png
END:VEVENT
BEGIN:VEVENT
DTSTART;TZID=America/Los_Angeles:20270422T144500
DTEND;TZID=America/Los_Angeles:20270422T161500
DTSTAMP:20260419T142658
CREATED:20260312T011939Z
LAST-MODIFIED:20260312T011939Z
UID:10006501-1808405100-1808410500@maybellecenter.org
SUMMARY:Theatre
DESCRIPTION:Join us as we revive the Fairly Odd Theatre troupe—an uplifting space to connect\, belong\, and express yourself. Theatre at Maybelle brings people together\, strengthens community\, and supports our mission of reducing isolation. Come be part of the story (no experience necessary)!
URL:https://maybellecenter.org/event/theatre/2027-04-22/
LOCATION:Maybelle Center Community Room\, 121 NW 6th Ave\, Portland\, 97209\, United States
CATEGORIES:Members,Volunteers
ATTACH;FMTTYPE=image/png:https://maybellecenter.org/wp-content/uploads/2026/03/Community-Theatre.png
END:VEVENT
BEGIN:VEVENT
DTSTART;TZID=America/Los_Angeles:20270429T144500
DTEND;TZID=America/Los_Angeles:20270429T161500
DTSTAMP:20260419T142658
CREATED:20260312T011939Z
LAST-MODIFIED:20260312T011939Z
UID:10006502-1809009900-1809015300@maybellecenter.org
SUMMARY:Theatre
DESCRIPTION:Join us as we revive the Fairly Odd Theatre troupe—an uplifting space to connect\, belong\, and express yourself. Theatre at Maybelle brings people together\, strengthens community\, and supports our mission of reducing isolation. Come be part of the story (no experience necessary)!
URL:https://maybellecenter.org/event/theatre/2027-04-29/
LOCATION:Maybelle Center Community Room\, 121 NW 6th Ave\, Portland\, 97209\, United States
CATEGORIES:Members,Volunteers
ATTACH;FMTTYPE=image/png:https://maybellecenter.org/wp-content/uploads/2026/03/Community-Theatre.png
END:VEVENT
BEGIN:VEVENT
DTSTART;TZID=America/Los_Angeles:20270506T144500
DTEND;TZID=America/Los_Angeles:20270506T161500
DTSTAMP:20260419T142658
CREATED:20260312T011939Z
LAST-MODIFIED:20260312T011939Z
UID:10006503-1809614700-1809620100@maybellecenter.org
SUMMARY:Theatre
DESCRIPTION:Join us as we revive the Fairly Odd Theatre troupe—an uplifting space to connect\, belong\, and express yourself. Theatre at Maybelle brings people together\, strengthens community\, and supports our mission of reducing isolation. Come be part of the story (no experience necessary)!
URL:https://maybellecenter.org/event/theatre/2027-05-06/
LOCATION:Maybelle Center Community Room\, 121 NW 6th Ave\, Portland\, 97209\, United States
CATEGORIES:Members,Volunteers
ATTACH;FMTTYPE=image/png:https://maybellecenter.org/wp-content/uploads/2026/03/Community-Theatre.png
END:VEVENT
BEGIN:VEVENT
DTSTART;TZID=America/Los_Angeles:20270513T144500
DTEND;TZID=America/Los_Angeles:20270513T161500
DTSTAMP:20260419T142658
CREATED:20260312T011939Z
LAST-MODIFIED:20260312T011939Z
UID:10006504-1810219500-1810224900@maybellecenter.org
SUMMARY:Theatre
DESCRIPTION:Join us as we revive the Fairly Odd Theatre troupe—an uplifting space to connect\, belong\, and express yourself. Theatre at Maybelle brings people together\, strengthens community\, and supports our mission of reducing isolation. Come be part of the story (no experience necessary)!
URL:https://maybellecenter.org/event/theatre/2027-05-13/
LOCATION:Maybelle Center Community Room\, 121 NW 6th Ave\, Portland\, 97209\, United States
CATEGORIES:Members,Volunteers
ATTACH;FMTTYPE=image/png:https://maybellecenter.org/wp-content/uploads/2026/03/Community-Theatre.png
END:VEVENT
BEGIN:VEVENT
DTSTART;TZID=America/Los_Angeles:20270520T144500
DTEND;TZID=America/Los_Angeles:20270520T161500
DTSTAMP:20260419T142658
CREATED:20260312T011939Z
LAST-MODIFIED:20260312T011939Z
UID:10006505-1810824300-1810829700@maybellecenter.org
SUMMARY:Theatre
DESCRIPTION:Join us as we revive the Fairly Odd Theatre troupe—an uplifting space to connect\, belong\, and express yourself. Theatre at Maybelle brings people together\, strengthens community\, and supports our mission of reducing isolation. Come be part of the story (no experience necessary)!
URL:https://maybellecenter.org/event/theatre/2027-05-20/
LOCATION:Maybelle Center Community Room\, 121 NW 6th Ave\, Portland\, 97209\, United States
CATEGORIES:Members,Volunteers
ATTACH;FMTTYPE=image/png:https://maybellecenter.org/wp-content/uploads/2026/03/Community-Theatre.png
END:VEVENT
BEGIN:VEVENT
DTSTART;TZID=America/Los_Angeles:20270527T144500
DTEND;TZID=America/Los_Angeles:20270527T161500
DTSTAMP:20260419T142658
CREATED:20260312T011939Z
LAST-MODIFIED:20260312T011939Z
UID:10006506-1811429100-1811434500@maybellecenter.org
SUMMARY:Theatre
DESCRIPTION:Join us as we revive the Fairly Odd Theatre troupe—an uplifting space to connect\, belong\, and express yourself. Theatre at Maybelle brings people together\, strengthens community\, and supports our mission of reducing isolation. Come be part of the story (no experience necessary)!
URL:https://maybellecenter.org/event/theatre/2027-05-27/
LOCATION:Maybelle Center Community Room\, 121 NW 6th Ave\, Portland\, 97209\, United States
CATEGORIES:Members,Volunteers
ATTACH;FMTTYPE=image/png:https://maybellecenter.org/wp-content/uploads/2026/03/Community-Theatre.png
END:VEVENT
BEGIN:VEVENT
DTSTART;TZID=America/Los_Angeles:20270603T144500
DTEND;TZID=America/Los_Angeles:20270603T161500
DTSTAMP:20260419T142658
CREATED:20260312T011939Z
LAST-MODIFIED:20260312T011939Z
UID:10006507-1812033900-1812039300@maybellecenter.org
SUMMARY:Theatre
DESCRIPTION:Join us as we revive the Fairly Odd Theatre troupe—an uplifting space to connect\, belong\, and express yourself. Theatre at Maybelle brings people together\, strengthens community\, and supports our mission of reducing isolation. Come be part of the story (no experience necessary)!
URL:https://maybellecenter.org/event/theatre/2027-06-03/
LOCATION:Maybelle Center Community Room\, 121 NW 6th Ave\, Portland\, 97209\, United States
CATEGORIES:Members,Volunteers
ATTACH;FMTTYPE=image/png:https://maybellecenter.org/wp-content/uploads/2026/03/Community-Theatre.png
END:VEVENT
BEGIN:VEVENT
DTSTART;TZID=America/Los_Angeles:20270610T144500
DTEND;TZID=America/Los_Angeles:20270610T161500
DTSTAMP:20260419T142658
CREATED:20260312T011939Z
LAST-MODIFIED:20260312T011939Z
UID:10006508-1812638700-1812644100@maybellecenter.org
SUMMARY:Theatre
DESCRIPTION:Join us as we revive the Fairly Odd Theatre troupe—an uplifting space to connect\, belong\, and express yourself. Theatre at Maybelle brings people together\, strengthens community\, and supports our mission of reducing isolation. Come be part of the story (no experience necessary)!
URL:https://maybellecenter.org/event/theatre/2027-06-10/
LOCATION:Maybelle Center Community Room\, 121 NW 6th Ave\, Portland\, 97209\, United States
CATEGORIES:Members,Volunteers
ATTACH;FMTTYPE=image/png:https://maybellecenter.org/wp-content/uploads/2026/03/Community-Theatre.png
END:VEVENT
BEGIN:VEVENT
DTSTART;TZID=America/Los_Angeles:20270617T144500
DTEND;TZID=America/Los_Angeles:20270617T161500
DTSTAMP:20260419T142658
CREATED:20260312T011939Z
LAST-MODIFIED:20260312T011939Z
UID:10006509-1813243500-1813248900@maybellecenter.org
SUMMARY:Theatre
DESCRIPTION:Join us as we revive the Fairly Odd Theatre troupe—an uplifting space to connect\, belong\, and express yourself. Theatre at Maybelle brings people together\, strengthens community\, and supports our mission of reducing isolation. Come be part of the story (no experience necessary)!
URL:https://maybellecenter.org/event/theatre/2027-06-17/
LOCATION:Maybelle Center Community Room\, 121 NW 6th Ave\, Portland\, 97209\, United States
CATEGORIES:Members,Volunteers
ATTACH;FMTTYPE=image/png:https://maybellecenter.org/wp-content/uploads/2026/03/Community-Theatre.png
END:VEVENT
BEGIN:VEVENT
DTSTART;TZID=America/Los_Angeles:20270624T144500
DTEND;TZID=America/Los_Angeles:20270624T161500
DTSTAMP:20260419T142658
CREATED:20260312T011939Z
LAST-MODIFIED:20260312T011939Z
UID:10006510-1813848300-1813853700@maybellecenter.org
SUMMARY:Theatre
DESCRIPTION:Join us as we revive the Fairly Odd Theatre troupe—an uplifting space to connect\, belong\, and express yourself. Theatre at Maybelle brings people together\, strengthens community\, and supports our mission of reducing isolation. Come be part of the story (no experience necessary)!
URL:https://maybellecenter.org/event/theatre/2027-06-24/
LOCATION:Maybelle Center Community Room\, 121 NW 6th Ave\, Portland\, 97209\, United States
CATEGORIES:Members,Volunteers
ATTACH;FMTTYPE=image/png:https://maybellecenter.org/wp-content/uploads/2026/03/Community-Theatre.png
END:VEVENT
BEGIN:VEVENT
DTSTART;TZID=America/Los_Angeles:20270701T144500
DTEND;TZID=America/Los_Angeles:20270701T161500
DTSTAMP:20260419T142658
CREATED:20260312T011939Z
LAST-MODIFIED:20260312T011939Z
UID:10006511-1814453100-1814458500@maybellecenter.org
SUMMARY:Theatre
DESCRIPTION:Join us as we revive the Fairly Odd Theatre troupe—an uplifting space to connect\, belong\, and express yourself. Theatre at Maybelle brings people together\, strengthens community\, and supports our mission of reducing isolation. Come be part of the story (no experience necessary)!
URL:https://maybellecenter.org/event/theatre/2027-07-01/
LOCATION:Maybelle Center Community Room\, 121 NW 6th Ave\, Portland\, 97209\, United States
CATEGORIES:Members,Volunteers
ATTACH;FMTTYPE=image/png:https://maybellecenter.org/wp-content/uploads/2026/03/Community-Theatre.png
END:VEVENT
BEGIN:VEVENT
DTSTART;TZID=America/Los_Angeles:20270708T144500
DTEND;TZID=America/Los_Angeles:20270708T161500
DTSTAMP:20260419T142658
CREATED:20260312T011939Z
LAST-MODIFIED:20260312T011939Z
UID:10006512-1815057900-1815063300@maybellecenter.org
SUMMARY:Theatre
DESCRIPTION:Join us as we revive the Fairly Odd Theatre troupe—an uplifting space to connect\, belong\, and express yourself. Theatre at Maybelle brings people together\, strengthens community\, and supports our mission of reducing isolation. Come be part of the story (no experience necessary)!
URL:https://maybellecenter.org/event/theatre/2027-07-08/
LOCATION:Maybelle Center Community Room\, 121 NW 6th Ave\, Portland\, 97209\, United States
CATEGORIES:Members,Volunteers
ATTACH;FMTTYPE=image/png:https://maybellecenter.org/wp-content/uploads/2026/03/Community-Theatre.png
END:VEVENT
BEGIN:VEVENT
DTSTART;TZID=America/Los_Angeles:20270715T144500
DTEND;TZID=America/Los_Angeles:20270715T161500
DTSTAMP:20260419T142658
CREATED:20260312T011939Z
LAST-MODIFIED:20260312T011939Z
UID:10006513-1815662700-1815668100@maybellecenter.org
SUMMARY:Theatre
DESCRIPTION:Join us as we revive the Fairly Odd Theatre troupe—an uplifting space to connect\, belong\, and express yourself. Theatre at Maybelle brings people together\, strengthens community\, and supports our mission of reducing isolation. Come be part of the story (no experience necessary)!
URL:https://maybellecenter.org/event/theatre/2027-07-15/
LOCATION:Maybelle Center Community Room\, 121 NW 6th Ave\, Portland\, 97209\, United States
CATEGORIES:Members,Volunteers
ATTACH;FMTTYPE=image/png:https://maybellecenter.org/wp-content/uploads/2026/03/Community-Theatre.png
END:VEVENT
BEGIN:VEVENT
DTSTART;TZID=America/Los_Angeles:20270722T144500
DTEND;TZID=America/Los_Angeles:20270722T161500
DTSTAMP:20260419T142658
CREATED:20260312T011939Z
LAST-MODIFIED:20260312T011939Z
UID:10006514-1816267500-1816272900@maybellecenter.org
SUMMARY:Theatre
DESCRIPTION:Join us as we revive the Fairly Odd Theatre troupe—an uplifting space to connect\, belong\, and express yourself. Theatre at Maybelle brings people together\, strengthens community\, and supports our mission of reducing isolation. Come be part of the story (no experience necessary)!
URL:https://maybellecenter.org/event/theatre/2027-07-22/
LOCATION:Maybelle Center Community Room\, 121 NW 6th Ave\, Portland\, 97209\, United States
CATEGORIES:Members,Volunteers
ATTACH;FMTTYPE=image/png:https://maybellecenter.org/wp-content/uploads/2026/03/Community-Theatre.png
END:VEVENT
BEGIN:VEVENT
DTSTART;TZID=America/Los_Angeles:20270729T144500
DTEND;TZID=America/Los_Angeles:20270729T161500
DTSTAMP:20260419T142658
CREATED:20260312T011939Z
LAST-MODIFIED:20260312T011939Z
UID:10006515-1816872300-1816877700@maybellecenter.org
SUMMARY:Theatre
DESCRIPTION:Join us as we revive the Fairly Odd Theatre troupe—an uplifting space to connect\, belong\, and express yourself. Theatre at Maybelle brings people together\, strengthens community\, and supports our mission of reducing isolation. Come be part of the story (no experience necessary)!
URL:https://maybellecenter.org/event/theatre/2027-07-29/
LOCATION:Maybelle Center Community Room\, 121 NW 6th Ave\, Portland\, 97209\, United States
CATEGORIES:Members,Volunteers
ATTACH;FMTTYPE=image/png:https://maybellecenter.org/wp-content/uploads/2026/03/Community-Theatre.png
END:VEVENT
BEGIN:VEVENT
DTSTART;TZID=America/Los_Angeles:20270805T144500
DTEND;TZID=America/Los_Angeles:20270805T161500
DTSTAMP:20260419T142658
CREATED:20260312T011939Z
LAST-MODIFIED:20260312T011939Z
UID:10006516-1817477100-1817482500@maybellecenter.org
SUMMARY:Theatre
DESCRIPTION:Join us as we revive the Fairly Odd Theatre troupe—an uplifting space to connect\, belong\, and express yourself. Theatre at Maybelle brings people together\, strengthens community\, and supports our mission of reducing isolation. Come be part of the story (no experience necessary)!
URL:https://maybellecenter.org/event/theatre/2027-08-05/
LOCATION:Maybelle Center Community Room\, 121 NW 6th Ave\, Portland\, 97209\, United States
CATEGORIES:Members,Volunteers
ATTACH;FMTTYPE=image/png:https://maybellecenter.org/wp-content/uploads/2026/03/Community-Theatre.png
END:VEVENT
BEGIN:VEVENT
DTSTART;TZID=America/Los_Angeles:20270812T144500
DTEND;TZID=America/Los_Angeles:20270812T161500
DTSTAMP:20260419T142658
CREATED:20260312T011939Z
LAST-MODIFIED:20260312T011939Z
UID:10006517-1818081900-1818087300@maybellecenter.org
SUMMARY:Theatre
DESCRIPTION:Join us as we revive the Fairly Odd Theatre troupe—an uplifting space to connect\, belong\, and express yourself. Theatre at Maybelle brings people together\, strengthens community\, and supports our mission of reducing isolation. Come be part of the story (no experience necessary)!
URL:https://maybellecenter.org/event/theatre/2027-08-12/
LOCATION:Maybelle Center Community Room\, 121 NW 6th Ave\, Portland\, 97209\, United States
CATEGORIES:Members,Volunteers
ATTACH;FMTTYPE=image/png:https://maybellecenter.org/wp-content/uploads/2026/03/Community-Theatre.png
END:VEVENT
BEGIN:VEVENT
DTSTART;TZID=America/Los_Angeles:20270819T144500
DTEND;TZID=America/Los_Angeles:20270819T161500
DTSTAMP:20260419T142658
CREATED:20260312T011939Z
LAST-MODIFIED:20260312T011939Z
UID:10006518-1818686700-1818692100@maybellecenter.org
SUMMARY:Theatre
DESCRIPTION:Join us as we revive the Fairly Odd Theatre troupe—an uplifting space to connect\, belong\, and express yourself. Theatre at Maybelle brings people together\, strengthens community\, and supports our mission of reducing isolation. Come be part of the story (no experience necessary)!
URL:https://maybellecenter.org/event/theatre/2027-08-19/
LOCATION:Maybelle Center Community Room\, 121 NW 6th Ave\, Portland\, 97209\, United States
CATEGORIES:Members,Volunteers
ATTACH;FMTTYPE=image/png:https://maybellecenter.org/wp-content/uploads/2026/03/Community-Theatre.png
END:VEVENT
BEGIN:VEVENT
DTSTART;TZID=America/Los_Angeles:20270826T144500
DTEND;TZID=America/Los_Angeles:20270826T161500
DTSTAMP:20260419T142658
CREATED:20260312T011939Z
LAST-MODIFIED:20260312T011939Z
UID:10006519-1819291500-1819296900@maybellecenter.org
SUMMARY:Theatre
DESCRIPTION:Join us as we revive the Fairly Odd Theatre troupe—an uplifting space to connect\, belong\, and express yourself. Theatre at Maybelle brings people together\, strengthens community\, and supports our mission of reducing isolation. Come be part of the story (no experience necessary)!
URL:https://maybellecenter.org/event/theatre/2027-08-26/
LOCATION:Maybelle Center Community Room\, 121 NW 6th Ave\, Portland\, 97209\, United States
CATEGORIES:Members,Volunteers
ATTACH;FMTTYPE=image/png:https://maybellecenter.org/wp-content/uploads/2026/03/Community-Theatre.png
END:VEVENT
BEGIN:VEVENT
DTSTART;TZID=America/Los_Angeles:20270902T144500
DTEND;TZID=America/Los_Angeles:20270902T161500
DTSTAMP:20260419T142658
CREATED:20260312T011939Z
LAST-MODIFIED:20260312T011939Z
UID:10006520-1819896300-1819901700@maybellecenter.org
SUMMARY:Theatre
DESCRIPTION:Join us as we revive the Fairly Odd Theatre troupe—an uplifting space to connect\, belong\, and express yourself. Theatre at Maybelle brings people together\, strengthens community\, and supports our mission of reducing isolation. Come be part of the story (no experience necessary)!
URL:https://maybellecenter.org/event/theatre/2027-09-02/
LOCATION:Maybelle Center Community Room\, 121 NW 6th Ave\, Portland\, 97209\, United States
CATEGORIES:Members,Volunteers
ATTACH;FMTTYPE=image/png:https://maybellecenter.org/wp-content/uploads/2026/03/Community-Theatre.png
END:VEVENT
BEGIN:VEVENT
DTSTART;TZID=America/Los_Angeles:20270909T144500
DTEND;TZID=America/Los_Angeles:20270909T161500
DTSTAMP:20260419T142658
CREATED:20260312T011939Z
LAST-MODIFIED:20260312T011939Z
UID:10006521-1820501100-1820506500@maybellecenter.org
SUMMARY:Theatre
DESCRIPTION:Join us as we revive the Fairly Odd Theatre troupe—an uplifting space to connect\, belong\, and express yourself. Theatre at Maybelle brings people together\, strengthens community\, and supports our mission of reducing isolation. Come be part of the story (no experience necessary)!
URL:https://maybellecenter.org/event/theatre/2027-09-09/
LOCATION:Maybelle Center Community Room\, 121 NW 6th Ave\, Portland\, 97209\, United States
CATEGORIES:Members,Volunteers
ATTACH;FMTTYPE=image/png:https://maybellecenter.org/wp-content/uploads/2026/03/Community-Theatre.png
END:VEVENT
BEGIN:VEVENT
DTSTART;TZID=America/Los_Angeles:20270916T144500
DTEND;TZID=America/Los_Angeles:20270916T161500
DTSTAMP:20260419T142658
CREATED:20260312T011939Z
LAST-MODIFIED:20260312T011939Z
UID:10006522-1821105900-1821111300@maybellecenter.org
SUMMARY:Theatre
DESCRIPTION:Join us as we revive the Fairly Odd Theatre troupe—an uplifting space to connect\, belong\, and express yourself. Theatre at Maybelle brings people together\, strengthens community\, and supports our mission of reducing isolation. Come be part of the story (no experience necessary)!
URL:https://maybellecenter.org/event/theatre/2027-09-16/
LOCATION:Maybelle Center Community Room\, 121 NW 6th Ave\, Portland\, 97209\, United States
CATEGORIES:Members,Volunteers
ATTACH;FMTTYPE=image/png:https://maybellecenter.org/wp-content/uploads/2026/03/Community-Theatre.png
END:VEVENT
BEGIN:VEVENT
DTSTART;TZID=America/Los_Angeles:20270923T144500
DTEND;TZID=America/Los_Angeles:20270923T161500
DTSTAMP:20260419T142658
CREATED:20260312T011939Z
LAST-MODIFIED:20260312T011939Z
UID:10006523-1821710700-1821716100@maybellecenter.org
SUMMARY:Theatre
DESCRIPTION:Join us as we revive the Fairly Odd Theatre troupe—an uplifting space to connect\, belong\, and express yourself. Theatre at Maybelle brings people together\, strengthens community\, and supports our mission of reducing isolation. Come be part of the story (no experience necessary)!
URL:https://maybellecenter.org/event/theatre/2027-09-23/
LOCATION:Maybelle Center Community Room\, 121 NW 6th Ave\, Portland\, 97209\, United States
CATEGORIES:Members,Volunteers
ATTACH;FMTTYPE=image/png:https://maybellecenter.org/wp-content/uploads/2026/03/Community-Theatre.png
END:VEVENT
BEGIN:VEVENT
DTSTART;TZID=America/Los_Angeles:20270930T144500
DTEND;TZID=America/Los_Angeles:20270930T161500
DTSTAMP:20260419T142658
CREATED:20260312T011939Z
LAST-MODIFIED:20260312T011939Z
UID:10006524-1822315500-1822320900@maybellecenter.org
SUMMARY:Theatre
DESCRIPTION:Join us as we revive the Fairly Odd Theatre troupe—an uplifting space to connect\, belong\, and express yourself. Theatre at Maybelle brings people together\, strengthens community\, and supports our mission of reducing isolation. Come be part of the story (no experience necessary)!
URL:https://maybellecenter.org/event/theatre/2027-09-30/
LOCATION:Maybelle Center Community Room\, 121 NW 6th Ave\, Portland\, 97209\, United States
CATEGORIES:Members,Volunteers
ATTACH;FMTTYPE=image/png:https://maybellecenter.org/wp-content/uploads/2026/03/Community-Theatre.png
END:VEVENT
BEGIN:VEVENT
DTSTART;TZID=America/Los_Angeles:20271007T144500
DTEND;TZID=America/Los_Angeles:20271007T161500
DTSTAMP:20260419T142658
CREATED:20260312T011939Z
LAST-MODIFIED:20260312T011939Z
UID:10006525-1822920300-1822925700@maybellecenter.org
SUMMARY:Theatre
DESCRIPTION:Join us as we revive the Fairly Odd Theatre troupe—an uplifting space to connect\, belong\, and express yourself. Theatre at Maybelle brings people together\, strengthens community\, and supports our mission of reducing isolation. Come be part of the story (no experience necessary)!
URL:https://maybellecenter.org/event/theatre/2027-10-07/
LOCATION:Maybelle Center Community Room\, 121 NW 6th Ave\, Portland\, 97209\, United States
CATEGORIES:Members,Volunteers
ATTACH;FMTTYPE=image/png:https://maybellecenter.org/wp-content/uploads/2026/03/Community-Theatre.png
END:VEVENT
BEGIN:VEVENT
DTSTART;TZID=America/Los_Angeles:20271014T144500
DTEND;TZID=America/Los_Angeles:20271014T161500
DTSTAMP:20260419T142658
CREATED:20260312T011939Z
LAST-MODIFIED:20260312T011939Z
UID:10006526-1823525100-1823530500@maybellecenter.org
SUMMARY:Theatre
DESCRIPTION:Join us as we revive the Fairly Odd Theatre troupe—an uplifting space to connect\, belong\, and express yourself. Theatre at Maybelle brings people together\, strengthens community\, and supports our mission of reducing isolation. Come be part of the story (no experience necessary)!
URL:https://maybellecenter.org/event/theatre/2027-10-14/
LOCATION:Maybelle Center Community Room\, 121 NW 6th Ave\, Portland\, 97209\, United States
CATEGORIES:Members,Volunteers
ATTACH;FMTTYPE=image/png:https://maybellecenter.org/wp-content/uploads/2026/03/Community-Theatre.png
END:VEVENT
BEGIN:VEVENT
DTSTART;TZID=America/Los_Angeles:20271021T144500
DTEND;TZID=America/Los_Angeles:20271021T161500
DTSTAMP:20260419T142658
CREATED:20260312T011939Z
LAST-MODIFIED:20260312T011939Z
UID:10006527-1824129900-1824135300@maybellecenter.org
SUMMARY:Theatre
DESCRIPTION:Join us as we revive the Fairly Odd Theatre troupe—an uplifting space to connect\, belong\, and express yourself. Theatre at Maybelle brings people together\, strengthens community\, and supports our mission of reducing isolation. Come be part of the story (no experience necessary)!
URL:https://maybellecenter.org/event/theatre/2027-10-21/
LOCATION:Maybelle Center Community Room\, 121 NW 6th Ave\, Portland\, 97209\, United States
CATEGORIES:Members,Volunteers
ATTACH;FMTTYPE=image/png:https://maybellecenter.org/wp-content/uploads/2026/03/Community-Theatre.png
END:VEVENT
END:VCALENDAR