BEGIN:VCALENDAR
VERSION:2.0
PRODID:-//Maybelle Center - ECPv6.15.20//NONSGML v1.0//EN
CALSCALE:GREGORIAN
METHOD:PUBLISH
X-WR-CALNAME:Maybelle Center
X-ORIGINAL-URL:https://maybellecenter.org
X-WR-CALDESC:Events for Maybelle Center
REFRESH-INTERVAL;VALUE=DURATION:PT1H
X-Robots-Tag:noindex
X-PUBLISHED-TTL:PT1H
BEGIN:VTIMEZONE
TZID:America/Los_Angeles
BEGIN:DAYLIGHT
TZOFFSETFROM:-0800
TZOFFSETTO:-0700
TZNAME:PDT
DTSTART:20290311T100000
END:DAYLIGHT
BEGIN:STANDARD
TZOFFSETFROM:-0700
TZOFFSETTO:-0800
TZNAME:PST
DTSTART:20291104T090000
END:STANDARD
BEGIN:DAYLIGHT
TZOFFSETFROM:-0800
TZOFFSETTO:-0700
TZNAME:PDT
DTSTART:20300310T100000
END:DAYLIGHT
BEGIN:STANDARD
TZOFFSETFROM:-0700
TZOFFSETTO:-0800
TZNAME:PST
DTSTART:20301103T090000
END:STANDARD
BEGIN:DAYLIGHT
TZOFFSETFROM:-0800
TZOFFSETTO:-0700
TZNAME:PDT
DTSTART:20310309T100000
END:DAYLIGHT
BEGIN:STANDARD
TZOFFSETFROM:-0700
TZOFFSETTO:-0800
TZNAME:PST
DTSTART:20311102T090000
END:STANDARD
BEGIN:DAYLIGHT
TZOFFSETFROM:-0800
TZOFFSETTO:-0700
TZNAME:PDT
DTSTART:20320314T100000
END:DAYLIGHT
BEGIN:STANDARD
TZOFFSETFROM:-0700
TZOFFSETTO:-0800
TZNAME:PST
DTSTART:20321107T090000
END:STANDARD
END:VTIMEZONE
BEGIN:VEVENT
DTSTART;TZID=America/Los_Angeles:20300906T123000
DTEND;TZID=America/Los_Angeles:20300906T143000
DTSTAMP:20260419T151541
CREATED:20260205T002710Z
LAST-MODIFIED:20260205T002710Z
UID:10006396-1914928200-1914935400@maybellecenter.org
SUMMARY:Game Time Social
DESCRIPTION:Join us in the Community Room every second and fourth Friday from 12:30-2:30 PM to play a board or card game with staff\, volunteers\, or fellow Members!
URL:https://maybellecenter.org/event/game-time-social/2030-09-06/
LOCATION:Maybelle Center Community Room\, 121 NW 6th Ave\, Portland\, 97209\, United States
CATEGORIES:Members,Volunteers
ATTACH;FMTTYPE=image/png:https://maybellecenter.org/wp-content/uploads/2026/02/Game-Time-Social.png
END:VEVENT
BEGIN:VEVENT
DTSTART;TZID=America/Los_Angeles:20300913T123000
DTEND;TZID=America/Los_Angeles:20300913T143000
DTSTAMP:20260419T151541
CREATED:20260205T002341Z
LAST-MODIFIED:20260312T000326Z
UID:10006268-1915533000-1915540200@maybellecenter.org
SUMMARY:Knitting & Crochet
DESCRIPTION:Join us on the first\, third\, and fifth Fridays from 12:30-2:30 PM in the Community Room to knit or crochet with us! \nTools\, materials\, and instruction will be available. All experience levels welcome!
URL:https://maybellecenter.org/event/knitting-crochet/2030-09-13/
LOCATION:Maybelle Center Community Room\, 121 NW 6th Ave\, Portland\, 97209\, United States
CATEGORIES:Members,Volunteers
ATTACH;FMTTYPE=image/png:https://maybellecenter.org/wp-content/uploads/2026/02/Knitting-Crochet.png
END:VEVENT
BEGIN:VEVENT
DTSTART;TZID=America/Los_Angeles:20300920T123000
DTEND;TZID=America/Los_Angeles:20300920T143000
DTSTAMP:20260419T151541
CREATED:20260205T002710Z
LAST-MODIFIED:20260205T002710Z
UID:10006397-1916137800-1916145000@maybellecenter.org
SUMMARY:Game Time Social
DESCRIPTION:Join us in the Community Room every second and fourth Friday from 12:30-2:30 PM to play a board or card game with staff\, volunteers\, or fellow Members!
URL:https://maybellecenter.org/event/game-time-social/2030-09-20/
LOCATION:Maybelle Center Community Room\, 121 NW 6th Ave\, Portland\, 97209\, United States
CATEGORIES:Members,Volunteers
ATTACH;FMTTYPE=image/png:https://maybellecenter.org/wp-content/uploads/2026/02/Game-Time-Social.png
END:VEVENT
BEGIN:VEVENT
DTSTART;TZID=America/Los_Angeles:20300927T123000
DTEND;TZID=America/Los_Angeles:20300927T143000
DTSTAMP:20260419T151541
CREATED:20260205T002341Z
LAST-MODIFIED:20260312T000326Z
UID:10006269-1916742600-1916749800@maybellecenter.org
SUMMARY:Knitting & Crochet
DESCRIPTION:Join us on the first\, third\, and fifth Fridays from 12:30-2:30 PM in the Community Room to knit or crochet with us! \nTools\, materials\, and instruction will be available. All experience levels welcome!
URL:https://maybellecenter.org/event/knitting-crochet/2030-09-27/
LOCATION:Maybelle Center Community Room\, 121 NW 6th Ave\, Portland\, 97209\, United States
CATEGORIES:Members,Volunteers
ATTACH;FMTTYPE=image/png:https://maybellecenter.org/wp-content/uploads/2026/02/Knitting-Crochet.png
END:VEVENT
BEGIN:VEVENT
DTSTART;TZID=America/Los_Angeles:20301004T123000
DTEND;TZID=America/Los_Angeles:20301004T143000
DTSTAMP:20260419T151541
CREATED:20260205T002710Z
LAST-MODIFIED:20260205T002710Z
UID:10006398-1917347400-1917354600@maybellecenter.org
SUMMARY:Game Time Social
DESCRIPTION:Join us in the Community Room every second and fourth Friday from 12:30-2:30 PM to play a board or card game with staff\, volunteers\, or fellow Members!
URL:https://maybellecenter.org/event/game-time-social/2030-10-04/
LOCATION:Maybelle Center Community Room\, 121 NW 6th Ave\, Portland\, 97209\, United States
CATEGORIES:Members,Volunteers
ATTACH;FMTTYPE=image/png:https://maybellecenter.org/wp-content/uploads/2026/02/Game-Time-Social.png
END:VEVENT
BEGIN:VEVENT
DTSTART;TZID=America/Los_Angeles:20301011T123000
DTEND;TZID=America/Los_Angeles:20301011T143000
DTSTAMP:20260419T151541
CREATED:20260205T002341Z
LAST-MODIFIED:20260312T000326Z
UID:10006270-1917952200-1917959400@maybellecenter.org
SUMMARY:Knitting & Crochet
DESCRIPTION:Join us on the first\, third\, and fifth Fridays from 12:30-2:30 PM in the Community Room to knit or crochet with us! \nTools\, materials\, and instruction will be available. All experience levels welcome!
URL:https://maybellecenter.org/event/knitting-crochet/2030-10-11/
LOCATION:Maybelle Center Community Room\, 121 NW 6th Ave\, Portland\, 97209\, United States
CATEGORIES:Members,Volunteers
ATTACH;FMTTYPE=image/png:https://maybellecenter.org/wp-content/uploads/2026/02/Knitting-Crochet.png
END:VEVENT
BEGIN:VEVENT
DTSTART;TZID=America/Los_Angeles:20301018T123000
DTEND;TZID=America/Los_Angeles:20301018T143000
DTSTAMP:20260419T151541
CREATED:20260205T002710Z
LAST-MODIFIED:20260205T002710Z
UID:10006399-1918557000-1918564200@maybellecenter.org
SUMMARY:Game Time Social
DESCRIPTION:Join us in the Community Room every second and fourth Friday from 12:30-2:30 PM to play a board or card game with staff\, volunteers\, or fellow Members!
URL:https://maybellecenter.org/event/game-time-social/2030-10-18/
LOCATION:Maybelle Center Community Room\, 121 NW 6th Ave\, Portland\, 97209\, United States
CATEGORIES:Members,Volunteers
ATTACH;FMTTYPE=image/png:https://maybellecenter.org/wp-content/uploads/2026/02/Game-Time-Social.png
END:VEVENT
BEGIN:VEVENT
DTSTART;TZID=America/Los_Angeles:20301025T123000
DTEND;TZID=America/Los_Angeles:20301025T143000
DTSTAMP:20260419T151541
CREATED:20260205T002341Z
LAST-MODIFIED:20260312T000326Z
UID:10006271-1919161800-1919169000@maybellecenter.org
SUMMARY:Knitting & Crochet
DESCRIPTION:Join us on the first\, third\, and fifth Fridays from 12:30-2:30 PM in the Community Room to knit or crochet with us! \nTools\, materials\, and instruction will be available. All experience levels welcome!
URL:https://maybellecenter.org/event/knitting-crochet/2030-10-25/
LOCATION:Maybelle Center Community Room\, 121 NW 6th Ave\, Portland\, 97209\, United States
CATEGORIES:Members,Volunteers
ATTACH;FMTTYPE=image/png:https://maybellecenter.org/wp-content/uploads/2026/02/Knitting-Crochet.png
END:VEVENT
BEGIN:VEVENT
DTSTART;TZID=America/Los_Angeles:20301101T123000
DTEND;TZID=America/Los_Angeles:20301101T143000
DTSTAMP:20260419T151541
CREATED:20260205T002710Z
LAST-MODIFIED:20260205T002710Z
UID:10006400-1919766600-1919773800@maybellecenter.org
SUMMARY:Game Time Social
DESCRIPTION:Join us in the Community Room every second and fourth Friday from 12:30-2:30 PM to play a board or card game with staff\, volunteers\, or fellow Members!
URL:https://maybellecenter.org/event/game-time-social/2030-11-01/
LOCATION:Maybelle Center Community Room\, 121 NW 6th Ave\, Portland\, 97209\, United States
CATEGORIES:Members,Volunteers
ATTACH;FMTTYPE=image/png:https://maybellecenter.org/wp-content/uploads/2026/02/Game-Time-Social.png
END:VEVENT
BEGIN:VEVENT
DTSTART;TZID=America/Los_Angeles:20301108T123000
DTEND;TZID=America/Los_Angeles:20301108T143000
DTSTAMP:20260419T151541
CREATED:20260205T002341Z
LAST-MODIFIED:20260312T000326Z
UID:10006272-1920371400-1920378600@maybellecenter.org
SUMMARY:Knitting & Crochet
DESCRIPTION:Join us on the first\, third\, and fifth Fridays from 12:30-2:30 PM in the Community Room to knit or crochet with us! \nTools\, materials\, and instruction will be available. All experience levels welcome!
URL:https://maybellecenter.org/event/knitting-crochet/2030-11-08/
LOCATION:Maybelle Center Community Room\, 121 NW 6th Ave\, Portland\, 97209\, United States
CATEGORIES:Members,Volunteers
ATTACH;FMTTYPE=image/png:https://maybellecenter.org/wp-content/uploads/2026/02/Knitting-Crochet.png
END:VEVENT
BEGIN:VEVENT
DTSTART;TZID=America/Los_Angeles:20301115T123000
DTEND;TZID=America/Los_Angeles:20301115T143000
DTSTAMP:20260419T151541
CREATED:20260205T002710Z
LAST-MODIFIED:20260205T002710Z
UID:10006401-1920976200-1920983400@maybellecenter.org
SUMMARY:Game Time Social
DESCRIPTION:Join us in the Community Room every second and fourth Friday from 12:30-2:30 PM to play a board or card game with staff\, volunteers\, or fellow Members!
URL:https://maybellecenter.org/event/game-time-social/2030-11-15/
LOCATION:Maybelle Center Community Room\, 121 NW 6th Ave\, Portland\, 97209\, United States
CATEGORIES:Members,Volunteers
ATTACH;FMTTYPE=image/png:https://maybellecenter.org/wp-content/uploads/2026/02/Game-Time-Social.png
END:VEVENT
BEGIN:VEVENT
DTSTART;TZID=America/Los_Angeles:20301122T123000
DTEND;TZID=America/Los_Angeles:20301122T143000
DTSTAMP:20260419T151541
CREATED:20260205T002341Z
LAST-MODIFIED:20260312T000326Z
UID:10006273-1921581000-1921588200@maybellecenter.org
SUMMARY:Knitting & Crochet
DESCRIPTION:Join us on the first\, third\, and fifth Fridays from 12:30-2:30 PM in the Community Room to knit or crochet with us! \nTools\, materials\, and instruction will be available. All experience levels welcome!
URL:https://maybellecenter.org/event/knitting-crochet/2030-11-22/
LOCATION:Maybelle Center Community Room\, 121 NW 6th Ave\, Portland\, 97209\, United States
CATEGORIES:Members,Volunteers
ATTACH;FMTTYPE=image/png:https://maybellecenter.org/wp-content/uploads/2026/02/Knitting-Crochet.png
END:VEVENT
BEGIN:VEVENT
DTSTART;TZID=America/Los_Angeles:20301129T123000
DTEND;TZID=America/Los_Angeles:20301129T143000
DTSTAMP:20260419T151541
CREATED:20260205T002710Z
LAST-MODIFIED:20260205T002710Z
UID:10006402-1922185800-1922193000@maybellecenter.org
SUMMARY:Game Time Social
DESCRIPTION:Join us in the Community Room every second and fourth Friday from 12:30-2:30 PM to play a board or card game with staff\, volunteers\, or fellow Members!
URL:https://maybellecenter.org/event/game-time-social/2030-11-29/
LOCATION:Maybelle Center Community Room\, 121 NW 6th Ave\, Portland\, 97209\, United States
CATEGORIES:Members,Volunteers
ATTACH;FMTTYPE=image/png:https://maybellecenter.org/wp-content/uploads/2026/02/Game-Time-Social.png
END:VEVENT
BEGIN:VEVENT
DTSTART;TZID=America/Los_Angeles:20301206T123000
DTEND;TZID=America/Los_Angeles:20301206T143000
DTSTAMP:20260419T151541
CREATED:20260205T002341Z
LAST-MODIFIED:20260312T000326Z
UID:10006274-1922790600-1922797800@maybellecenter.org
SUMMARY:Knitting & Crochet
DESCRIPTION:Join us on the first\, third\, and fifth Fridays from 12:30-2:30 PM in the Community Room to knit or crochet with us! \nTools\, materials\, and instruction will be available. All experience levels welcome!
URL:https://maybellecenter.org/event/knitting-crochet/2030-12-06/
LOCATION:Maybelle Center Community Room\, 121 NW 6th Ave\, Portland\, 97209\, United States
CATEGORIES:Members,Volunteers
ATTACH;FMTTYPE=image/png:https://maybellecenter.org/wp-content/uploads/2026/02/Knitting-Crochet.png
END:VEVENT
BEGIN:VEVENT
DTSTART;TZID=America/Los_Angeles:20301213T123000
DTEND;TZID=America/Los_Angeles:20301213T143000
DTSTAMP:20260419T151541
CREATED:20260205T002710Z
LAST-MODIFIED:20260205T002710Z
UID:10006403-1923395400-1923402600@maybellecenter.org
SUMMARY:Game Time Social
DESCRIPTION:Join us in the Community Room every second and fourth Friday from 12:30-2:30 PM to play a board or card game with staff\, volunteers\, or fellow Members!
URL:https://maybellecenter.org/event/game-time-social/2030-12-13/
LOCATION:Maybelle Center Community Room\, 121 NW 6th Ave\, Portland\, 97209\, United States
CATEGORIES:Members,Volunteers
ATTACH;FMTTYPE=image/png:https://maybellecenter.org/wp-content/uploads/2026/02/Game-Time-Social.png
END:VEVENT
BEGIN:VEVENT
DTSTART;TZID=America/Los_Angeles:20301220T123000
DTEND;TZID=America/Los_Angeles:20301220T143000
DTSTAMP:20260419T151541
CREATED:20260205T002341Z
LAST-MODIFIED:20260312T000326Z
UID:10006275-1924000200-1924007400@maybellecenter.org
SUMMARY:Knitting & Crochet
DESCRIPTION:Join us on the first\, third\, and fifth Fridays from 12:30-2:30 PM in the Community Room to knit or crochet with us! \nTools\, materials\, and instruction will be available. All experience levels welcome!
URL:https://maybellecenter.org/event/knitting-crochet/2030-12-20/
LOCATION:Maybelle Center Community Room\, 121 NW 6th Ave\, Portland\, 97209\, United States
CATEGORIES:Members,Volunteers
ATTACH;FMTTYPE=image/png:https://maybellecenter.org/wp-content/uploads/2026/02/Knitting-Crochet.png
END:VEVENT
BEGIN:VEVENT
DTSTART;TZID=America/Los_Angeles:20301227T123000
DTEND;TZID=America/Los_Angeles:20301227T143000
DTSTAMP:20260419T151541
CREATED:20260205T002710Z
LAST-MODIFIED:20260205T002710Z
UID:10006404-1924605000-1924612200@maybellecenter.org
SUMMARY:Game Time Social
DESCRIPTION:Join us in the Community Room every second and fourth Friday from 12:30-2:30 PM to play a board or card game with staff\, volunteers\, or fellow Members!
URL:https://maybellecenter.org/event/game-time-social/2030-12-27/
LOCATION:Maybelle Center Community Room\, 121 NW 6th Ave\, Portland\, 97209\, United States
CATEGORIES:Members,Volunteers
ATTACH;FMTTYPE=image/png:https://maybellecenter.org/wp-content/uploads/2026/02/Game-Time-Social.png
END:VEVENT
BEGIN:VEVENT
DTSTART;TZID=America/Los_Angeles:20310103T123000
DTEND;TZID=America/Los_Angeles:20310103T143000
DTSTAMP:20260419T151541
CREATED:20260205T002341Z
LAST-MODIFIED:20260312T000326Z
UID:10006276-1925209800-1925217000@maybellecenter.org
SUMMARY:Knitting & Crochet
DESCRIPTION:Join us on the first\, third\, and fifth Fridays from 12:30-2:30 PM in the Community Room to knit or crochet with us! \nTools\, materials\, and instruction will be available. All experience levels welcome!
URL:https://maybellecenter.org/event/knitting-crochet/2031-01-03/
LOCATION:Maybelle Center Community Room\, 121 NW 6th Ave\, Portland\, 97209\, United States
CATEGORIES:Members,Volunteers
ATTACH;FMTTYPE=image/png:https://maybellecenter.org/wp-content/uploads/2026/02/Knitting-Crochet.png
END:VEVENT
BEGIN:VEVENT
DTSTART;TZID=America/Los_Angeles:20310110T123000
DTEND;TZID=America/Los_Angeles:20310110T143000
DTSTAMP:20260419T151541
CREATED:20260205T002710Z
LAST-MODIFIED:20260205T002710Z
UID:10006405-1925814600-1925821800@maybellecenter.org
SUMMARY:Game Time Social
DESCRIPTION:Join us in the Community Room every second and fourth Friday from 12:30-2:30 PM to play a board or card game with staff\, volunteers\, or fellow Members!
URL:https://maybellecenter.org/event/game-time-social/2031-01-10/
LOCATION:Maybelle Center Community Room\, 121 NW 6th Ave\, Portland\, 97209\, United States
CATEGORIES:Members,Volunteers
ATTACH;FMTTYPE=image/png:https://maybellecenter.org/wp-content/uploads/2026/02/Game-Time-Social.png
END:VEVENT
BEGIN:VEVENT
DTSTART;TZID=America/Los_Angeles:20310117T123000
DTEND;TZID=America/Los_Angeles:20310117T143000
DTSTAMP:20260419T151541
CREATED:20260205T002341Z
LAST-MODIFIED:20260312T000326Z
UID:10006277-1926419400-1926426600@maybellecenter.org
SUMMARY:Knitting & Crochet
DESCRIPTION:Join us on the first\, third\, and fifth Fridays from 12:30-2:30 PM in the Community Room to knit or crochet with us! \nTools\, materials\, and instruction will be available. All experience levels welcome!
URL:https://maybellecenter.org/event/knitting-crochet/2031-01-17/
LOCATION:Maybelle Center Community Room\, 121 NW 6th Ave\, Portland\, 97209\, United States
CATEGORIES:Members,Volunteers
ATTACH;FMTTYPE=image/png:https://maybellecenter.org/wp-content/uploads/2026/02/Knitting-Crochet.png
END:VEVENT
BEGIN:VEVENT
DTSTART;TZID=America/Los_Angeles:20310124T123000
DTEND;TZID=America/Los_Angeles:20310124T143000
DTSTAMP:20260419T151541
CREATED:20260205T002710Z
LAST-MODIFIED:20260205T002710Z
UID:10006406-1927024200-1927031400@maybellecenter.org
SUMMARY:Game Time Social
DESCRIPTION:Join us in the Community Room every second and fourth Friday from 12:30-2:30 PM to play a board or card game with staff\, volunteers\, or fellow Members!
URL:https://maybellecenter.org/event/game-time-social/2031-01-24/
LOCATION:Maybelle Center Community Room\, 121 NW 6th Ave\, Portland\, 97209\, United States
CATEGORIES:Members,Volunteers
ATTACH;FMTTYPE=image/png:https://maybellecenter.org/wp-content/uploads/2026/02/Game-Time-Social.png
END:VEVENT
BEGIN:VEVENT
DTSTART;TZID=America/Los_Angeles:20310131T123000
DTEND;TZID=America/Los_Angeles:20310131T143000
DTSTAMP:20260419T151541
CREATED:20260205T002341Z
LAST-MODIFIED:20260312T000326Z
UID:10006278-1927629000-1927636200@maybellecenter.org
SUMMARY:Knitting & Crochet
DESCRIPTION:Join us on the first\, third\, and fifth Fridays from 12:30-2:30 PM in the Community Room to knit or crochet with us! \nTools\, materials\, and instruction will be available. All experience levels welcome!
URL:https://maybellecenter.org/event/knitting-crochet/2031-01-31/
LOCATION:Maybelle Center Community Room\, 121 NW 6th Ave\, Portland\, 97209\, United States
CATEGORIES:Members,Volunteers
ATTACH;FMTTYPE=image/png:https://maybellecenter.org/wp-content/uploads/2026/02/Knitting-Crochet.png
END:VEVENT
BEGIN:VEVENT
DTSTART;TZID=America/Los_Angeles:20310214T123000
DTEND;TZID=America/Los_Angeles:20310214T143000
DTSTAMP:20260419T151541
CREATED:20260205T002341Z
LAST-MODIFIED:20260312T000326Z
UID:10006436-1928838600-1928845800@maybellecenter.org
SUMMARY:Knitting & Crochet
DESCRIPTION:Join us on the first\, third\, and fifth Fridays from 12:30-2:30 PM in the Community Room to knit or crochet with us! \nTools\, materials\, and instruction will be available. All experience levels welcome!
URL:https://maybellecenter.org/event/knitting-crochet/2031-02-14/
LOCATION:Maybelle Center Community Room\, 121 NW 6th Ave\, Portland\, 97209\, United States
CATEGORIES:Members,Volunteers
ATTACH;FMTTYPE=image/png:https://maybellecenter.org/wp-content/uploads/2026/02/Knitting-Crochet.png
END:VEVENT
BEGIN:VEVENT
DTSTART;TZID=America/Los_Angeles:20310228T123000
DTEND;TZID=America/Los_Angeles:20310228T143000
DTSTAMP:20260419T151541
CREATED:20260205T002341Z
LAST-MODIFIED:20260312T000326Z
UID:10006437-1930048200-1930055400@maybellecenter.org
SUMMARY:Knitting & Crochet
DESCRIPTION:Join us on the first\, third\, and fifth Fridays from 12:30-2:30 PM in the Community Room to knit or crochet with us! \nTools\, materials\, and instruction will be available. All experience levels welcome!
URL:https://maybellecenter.org/event/knitting-crochet/2031-02-28/
LOCATION:Maybelle Center Community Room\, 121 NW 6th Ave\, Portland\, 97209\, United States
CATEGORIES:Members,Volunteers
ATTACH;FMTTYPE=image/png:https://maybellecenter.org/wp-content/uploads/2026/02/Knitting-Crochet.png
END:VEVENT
END:VCALENDAR