BEGIN:VCALENDAR
VERSION:2.0
PRODID:-//Maybelle Center - ECPv6.15.20//NONSGML v1.0//EN
CALSCALE:GREGORIAN
METHOD:PUBLISH
X-ORIGINAL-URL:https://maybellecenter.org
X-WR-CALDESC:Events for Maybelle Center
REFRESH-INTERVAL;VALUE=DURATION:PT1H
X-Robots-Tag:noindex
X-PUBLISHED-TTL:PT1H
BEGIN:VTIMEZONE
TZID:America/Los_Angeles
BEGIN:DAYLIGHT
TZOFFSETFROM:-0800
TZOFFSETTO:-0700
TZNAME:PDT
DTSTART:20290311T100000
END:DAYLIGHT
BEGIN:STANDARD
TZOFFSETFROM:-0700
TZOFFSETTO:-0800
TZNAME:PST
DTSTART:20291104T090000
END:STANDARD
BEGIN:DAYLIGHT
TZOFFSETFROM:-0800
TZOFFSETTO:-0700
TZNAME:PDT
DTSTART:20300310T100000
END:DAYLIGHT
BEGIN:STANDARD
TZOFFSETFROM:-0700
TZOFFSETTO:-0800
TZNAME:PST
DTSTART:20301103T090000
END:STANDARD
BEGIN:DAYLIGHT
TZOFFSETFROM:-0800
TZOFFSETTO:-0700
TZNAME:PDT
DTSTART:20310309T100000
END:DAYLIGHT
BEGIN:STANDARD
TZOFFSETFROM:-0700
TZOFFSETTO:-0800
TZNAME:PST
DTSTART:20311102T090000
END:STANDARD
END:VTIMEZONE
BEGIN:VEVENT
DTSTART;TZID=America/Los_Angeles:20300322T123000
DTEND;TZID=America/Los_Angeles:20300322T143000
DTSTAMP:20260419T122119
CREATED:20260205T002710Z
LAST-MODIFIED:20260205T002710Z
UID:10006384-1900413000-1900420200@maybellecenter.org
SUMMARY:Game Time Social
DESCRIPTION:Join us in the Community Room every second and fourth Friday from 12:30-2:30 PM to play a board or card game with staff\, volunteers\, or fellow Members!
URL:https://maybellecenter.org/event/game-time-social/2030-03-22/
LOCATION:Maybelle Center Community Room\, 121 NW 6th Ave\, Portland\, 97209\, United States
CATEGORIES:Members,Volunteers
ATTACH;FMTTYPE=image/png:https://maybellecenter.org/wp-content/uploads/2026/02/Game-Time-Social.png
END:VEVENT
BEGIN:VEVENT
DTSTART;TZID=America/Los_Angeles:20300329T123000
DTEND;TZID=America/Los_Angeles:20300329T143000
DTSTAMP:20260419T122119
CREATED:20260205T002341Z
LAST-MODIFIED:20260312T000326Z
UID:10006256-1901017800-1901025000@maybellecenter.org
SUMMARY:Knitting & Crochet
DESCRIPTION:Join us on the first\, third\, and fifth Fridays from 12:30-2:30 PM in the Community Room to knit or crochet with us! \nTools\, materials\, and instruction will be available. All experience levels welcome!
URL:https://maybellecenter.org/event/knitting-crochet/2030-03-29/
LOCATION:Maybelle Center Community Room\, 121 NW 6th Ave\, Portland\, 97209\, United States
CATEGORIES:Members,Volunteers
ATTACH;FMTTYPE=image/png:https://maybellecenter.org/wp-content/uploads/2026/02/Knitting-Crochet.png
END:VEVENT
BEGIN:VEVENT
DTSTART;TZID=America/Los_Angeles:20300405T123000
DTEND;TZID=America/Los_Angeles:20300405T143000
DTSTAMP:20260419T122119
CREATED:20260205T002710Z
LAST-MODIFIED:20260205T002710Z
UID:10006385-1901622600-1901629800@maybellecenter.org
SUMMARY:Game Time Social
DESCRIPTION:Join us in the Community Room every second and fourth Friday from 12:30-2:30 PM to play a board or card game with staff\, volunteers\, or fellow Members!
URL:https://maybellecenter.org/event/game-time-social/2030-04-05/
LOCATION:Maybelle Center Community Room\, 121 NW 6th Ave\, Portland\, 97209\, United States
CATEGORIES:Members,Volunteers
ATTACH;FMTTYPE=image/png:https://maybellecenter.org/wp-content/uploads/2026/02/Game-Time-Social.png
END:VEVENT
BEGIN:VEVENT
DTSTART;TZID=America/Los_Angeles:20300412T123000
DTEND;TZID=America/Los_Angeles:20300412T143000
DTSTAMP:20260419T122119
CREATED:20260205T002341Z
LAST-MODIFIED:20260312T000326Z
UID:10006257-1902227400-1902234600@maybellecenter.org
SUMMARY:Knitting & Crochet
DESCRIPTION:Join us on the first\, third\, and fifth Fridays from 12:30-2:30 PM in the Community Room to knit or crochet with us! \nTools\, materials\, and instruction will be available. All experience levels welcome!
URL:https://maybellecenter.org/event/knitting-crochet/2030-04-12/
LOCATION:Maybelle Center Community Room\, 121 NW 6th Ave\, Portland\, 97209\, United States
CATEGORIES:Members,Volunteers
ATTACH;FMTTYPE=image/png:https://maybellecenter.org/wp-content/uploads/2026/02/Knitting-Crochet.png
END:VEVENT
BEGIN:VEVENT
DTSTART;TZID=America/Los_Angeles:20300419T123000
DTEND;TZID=America/Los_Angeles:20300419T143000
DTSTAMP:20260419T122119
CREATED:20260205T002710Z
LAST-MODIFIED:20260205T002710Z
UID:10006386-1902832200-1902839400@maybellecenter.org
SUMMARY:Game Time Social
DESCRIPTION:Join us in the Community Room every second and fourth Friday from 12:30-2:30 PM to play a board or card game with staff\, volunteers\, or fellow Members!
URL:https://maybellecenter.org/event/game-time-social/2030-04-19/
LOCATION:Maybelle Center Community Room\, 121 NW 6th Ave\, Portland\, 97209\, United States
CATEGORIES:Members,Volunteers
ATTACH;FMTTYPE=image/png:https://maybellecenter.org/wp-content/uploads/2026/02/Game-Time-Social.png
END:VEVENT
BEGIN:VEVENT
DTSTART;TZID=America/Los_Angeles:20300426T123000
DTEND;TZID=America/Los_Angeles:20300426T143000
DTSTAMP:20260419T122119
CREATED:20260205T002341Z
LAST-MODIFIED:20260312T000326Z
UID:10006258-1903437000-1903444200@maybellecenter.org
SUMMARY:Knitting & Crochet
DESCRIPTION:Join us on the first\, third\, and fifth Fridays from 12:30-2:30 PM in the Community Room to knit or crochet with us! \nTools\, materials\, and instruction will be available. All experience levels welcome!
URL:https://maybellecenter.org/event/knitting-crochet/2030-04-26/
LOCATION:Maybelle Center Community Room\, 121 NW 6th Ave\, Portland\, 97209\, United States
CATEGORIES:Members,Volunteers
ATTACH;FMTTYPE=image/png:https://maybellecenter.org/wp-content/uploads/2026/02/Knitting-Crochet.png
END:VEVENT
BEGIN:VEVENT
DTSTART;TZID=America/Los_Angeles:20300503T123000
DTEND;TZID=America/Los_Angeles:20300503T143000
DTSTAMP:20260419T122119
CREATED:20260205T002710Z
LAST-MODIFIED:20260205T002710Z
UID:10006387-1904041800-1904049000@maybellecenter.org
SUMMARY:Game Time Social
DESCRIPTION:Join us in the Community Room every second and fourth Friday from 12:30-2:30 PM to play a board or card game with staff\, volunteers\, or fellow Members!
URL:https://maybellecenter.org/event/game-time-social/2030-05-03/
LOCATION:Maybelle Center Community Room\, 121 NW 6th Ave\, Portland\, 97209\, United States
CATEGORIES:Members,Volunteers
ATTACH;FMTTYPE=image/png:https://maybellecenter.org/wp-content/uploads/2026/02/Game-Time-Social.png
END:VEVENT
BEGIN:VEVENT
DTSTART;TZID=America/Los_Angeles:20300510T123000
DTEND;TZID=America/Los_Angeles:20300510T143000
DTSTAMP:20260419T122119
CREATED:20260205T002341Z
LAST-MODIFIED:20260312T000326Z
UID:10006259-1904646600-1904653800@maybellecenter.org
SUMMARY:Knitting & Crochet
DESCRIPTION:Join us on the first\, third\, and fifth Fridays from 12:30-2:30 PM in the Community Room to knit or crochet with us! \nTools\, materials\, and instruction will be available. All experience levels welcome!
URL:https://maybellecenter.org/event/knitting-crochet/2030-05-10/
LOCATION:Maybelle Center Community Room\, 121 NW 6th Ave\, Portland\, 97209\, United States
CATEGORIES:Members,Volunteers
ATTACH;FMTTYPE=image/png:https://maybellecenter.org/wp-content/uploads/2026/02/Knitting-Crochet.png
END:VEVENT
BEGIN:VEVENT
DTSTART;TZID=America/Los_Angeles:20300517T123000
DTEND;TZID=America/Los_Angeles:20300517T143000
DTSTAMP:20260419T122119
CREATED:20260205T002710Z
LAST-MODIFIED:20260205T002710Z
UID:10006388-1905251400-1905258600@maybellecenter.org
SUMMARY:Game Time Social
DESCRIPTION:Join us in the Community Room every second and fourth Friday from 12:30-2:30 PM to play a board or card game with staff\, volunteers\, or fellow Members!
URL:https://maybellecenter.org/event/game-time-social/2030-05-17/
LOCATION:Maybelle Center Community Room\, 121 NW 6th Ave\, Portland\, 97209\, United States
CATEGORIES:Members,Volunteers
ATTACH;FMTTYPE=image/png:https://maybellecenter.org/wp-content/uploads/2026/02/Game-Time-Social.png
END:VEVENT
BEGIN:VEVENT
DTSTART;TZID=America/Los_Angeles:20300524T123000
DTEND;TZID=America/Los_Angeles:20300524T143000
DTSTAMP:20260419T122119
CREATED:20260205T002341Z
LAST-MODIFIED:20260312T000326Z
UID:10006260-1905856200-1905863400@maybellecenter.org
SUMMARY:Knitting & Crochet
DESCRIPTION:Join us on the first\, third\, and fifth Fridays from 12:30-2:30 PM in the Community Room to knit or crochet with us! \nTools\, materials\, and instruction will be available. All experience levels welcome!
URL:https://maybellecenter.org/event/knitting-crochet/2030-05-24/
LOCATION:Maybelle Center Community Room\, 121 NW 6th Ave\, Portland\, 97209\, United States
CATEGORIES:Members,Volunteers
ATTACH;FMTTYPE=image/png:https://maybellecenter.org/wp-content/uploads/2026/02/Knitting-Crochet.png
END:VEVENT
BEGIN:VEVENT
DTSTART;TZID=America/Los_Angeles:20300531T123000
DTEND;TZID=America/Los_Angeles:20300531T143000
DTSTAMP:20260419T122119
CREATED:20260205T002710Z
LAST-MODIFIED:20260205T002710Z
UID:10006389-1906461000-1906468200@maybellecenter.org
SUMMARY:Game Time Social
DESCRIPTION:Join us in the Community Room every second and fourth Friday from 12:30-2:30 PM to play a board or card game with staff\, volunteers\, or fellow Members!
URL:https://maybellecenter.org/event/game-time-social/2030-05-31/
LOCATION:Maybelle Center Community Room\, 121 NW 6th Ave\, Portland\, 97209\, United States
CATEGORIES:Members,Volunteers
ATTACH;FMTTYPE=image/png:https://maybellecenter.org/wp-content/uploads/2026/02/Game-Time-Social.png
END:VEVENT
BEGIN:VEVENT
DTSTART;TZID=America/Los_Angeles:20300607T123000
DTEND;TZID=America/Los_Angeles:20300607T143000
DTSTAMP:20260419T122120
CREATED:20260205T002341Z
LAST-MODIFIED:20260312T000326Z
UID:10006261-1907065800-1907073000@maybellecenter.org
SUMMARY:Knitting & Crochet
DESCRIPTION:Join us on the first\, third\, and fifth Fridays from 12:30-2:30 PM in the Community Room to knit or crochet with us! \nTools\, materials\, and instruction will be available. All experience levels welcome!
URL:https://maybellecenter.org/event/knitting-crochet/2030-06-07/
LOCATION:Maybelle Center Community Room\, 121 NW 6th Ave\, Portland\, 97209\, United States
CATEGORIES:Members,Volunteers
ATTACH;FMTTYPE=image/png:https://maybellecenter.org/wp-content/uploads/2026/02/Knitting-Crochet.png
END:VEVENT
BEGIN:VEVENT
DTSTART;TZID=America/Los_Angeles:20300614T123000
DTEND;TZID=America/Los_Angeles:20300614T143000
DTSTAMP:20260419T122120
CREATED:20260205T002710Z
LAST-MODIFIED:20260205T002710Z
UID:10006390-1907670600-1907677800@maybellecenter.org
SUMMARY:Game Time Social
DESCRIPTION:Join us in the Community Room every second and fourth Friday from 12:30-2:30 PM to play a board or card game with staff\, volunteers\, or fellow Members!
URL:https://maybellecenter.org/event/game-time-social/2030-06-14/
LOCATION:Maybelle Center Community Room\, 121 NW 6th Ave\, Portland\, 97209\, United States
CATEGORIES:Members,Volunteers
ATTACH;FMTTYPE=image/png:https://maybellecenter.org/wp-content/uploads/2026/02/Game-Time-Social.png
END:VEVENT
BEGIN:VEVENT
DTSTART;TZID=America/Los_Angeles:20300621T123000
DTEND;TZID=America/Los_Angeles:20300621T143000
DTSTAMP:20260419T122120
CREATED:20260205T002341Z
LAST-MODIFIED:20260312T000326Z
UID:10006262-1908275400-1908282600@maybellecenter.org
SUMMARY:Knitting & Crochet
DESCRIPTION:Join us on the first\, third\, and fifth Fridays from 12:30-2:30 PM in the Community Room to knit or crochet with us! \nTools\, materials\, and instruction will be available. All experience levels welcome!
URL:https://maybellecenter.org/event/knitting-crochet/2030-06-21/
LOCATION:Maybelle Center Community Room\, 121 NW 6th Ave\, Portland\, 97209\, United States
CATEGORIES:Members,Volunteers
ATTACH;FMTTYPE=image/png:https://maybellecenter.org/wp-content/uploads/2026/02/Knitting-Crochet.png
END:VEVENT
BEGIN:VEVENT
DTSTART;TZID=America/Los_Angeles:20300628T123000
DTEND;TZID=America/Los_Angeles:20300628T143000
DTSTAMP:20260419T122120
CREATED:20260205T002710Z
LAST-MODIFIED:20260205T002710Z
UID:10006391-1908880200-1908887400@maybellecenter.org
SUMMARY:Game Time Social
DESCRIPTION:Join us in the Community Room every second and fourth Friday from 12:30-2:30 PM to play a board or card game with staff\, volunteers\, or fellow Members!
URL:https://maybellecenter.org/event/game-time-social/2030-06-28/
LOCATION:Maybelle Center Community Room\, 121 NW 6th Ave\, Portland\, 97209\, United States
CATEGORIES:Members,Volunteers
ATTACH;FMTTYPE=image/png:https://maybellecenter.org/wp-content/uploads/2026/02/Game-Time-Social.png
END:VEVENT
BEGIN:VEVENT
DTSTART;TZID=America/Los_Angeles:20300705T123000
DTEND;TZID=America/Los_Angeles:20300705T143000
DTSTAMP:20260419T122120
CREATED:20260205T002341Z
LAST-MODIFIED:20260312T000326Z
UID:10006263-1909485000-1909492200@maybellecenter.org
SUMMARY:Knitting & Crochet
DESCRIPTION:Join us on the first\, third\, and fifth Fridays from 12:30-2:30 PM in the Community Room to knit or crochet with us! \nTools\, materials\, and instruction will be available. All experience levels welcome!
URL:https://maybellecenter.org/event/knitting-crochet/2030-07-05/
LOCATION:Maybelle Center Community Room\, 121 NW 6th Ave\, Portland\, 97209\, United States
CATEGORIES:Members,Volunteers
ATTACH;FMTTYPE=image/png:https://maybellecenter.org/wp-content/uploads/2026/02/Knitting-Crochet.png
END:VEVENT
BEGIN:VEVENT
DTSTART;TZID=America/Los_Angeles:20300712T123000
DTEND;TZID=America/Los_Angeles:20300712T143000
DTSTAMP:20260419T122120
CREATED:20260205T002710Z
LAST-MODIFIED:20260205T002710Z
UID:10006392-1910089800-1910097000@maybellecenter.org
SUMMARY:Game Time Social
DESCRIPTION:Join us in the Community Room every second and fourth Friday from 12:30-2:30 PM to play a board or card game with staff\, volunteers\, or fellow Members!
URL:https://maybellecenter.org/event/game-time-social/2030-07-12/
LOCATION:Maybelle Center Community Room\, 121 NW 6th Ave\, Portland\, 97209\, United States
CATEGORIES:Members,Volunteers
ATTACH;FMTTYPE=image/png:https://maybellecenter.org/wp-content/uploads/2026/02/Game-Time-Social.png
END:VEVENT
BEGIN:VEVENT
DTSTART;TZID=America/Los_Angeles:20300719T123000
DTEND;TZID=America/Los_Angeles:20300719T143000
DTSTAMP:20260419T122120
CREATED:20260205T002341Z
LAST-MODIFIED:20260312T000326Z
UID:10006264-1910694600-1910701800@maybellecenter.org
SUMMARY:Knitting & Crochet
DESCRIPTION:Join us on the first\, third\, and fifth Fridays from 12:30-2:30 PM in the Community Room to knit or crochet with us! \nTools\, materials\, and instruction will be available. All experience levels welcome!
URL:https://maybellecenter.org/event/knitting-crochet/2030-07-19/
LOCATION:Maybelle Center Community Room\, 121 NW 6th Ave\, Portland\, 97209\, United States
CATEGORIES:Members,Volunteers
ATTACH;FMTTYPE=image/png:https://maybellecenter.org/wp-content/uploads/2026/02/Knitting-Crochet.png
END:VEVENT
BEGIN:VEVENT
DTSTART;TZID=America/Los_Angeles:20300726T123000
DTEND;TZID=America/Los_Angeles:20300726T143000
DTSTAMP:20260419T122120
CREATED:20260205T002710Z
LAST-MODIFIED:20260205T002710Z
UID:10006393-1911299400-1911306600@maybellecenter.org
SUMMARY:Game Time Social
DESCRIPTION:Join us in the Community Room every second and fourth Friday from 12:30-2:30 PM to play a board or card game with staff\, volunteers\, or fellow Members!
URL:https://maybellecenter.org/event/game-time-social/2030-07-26/
LOCATION:Maybelle Center Community Room\, 121 NW 6th Ave\, Portland\, 97209\, United States
CATEGORIES:Members,Volunteers
ATTACH;FMTTYPE=image/png:https://maybellecenter.org/wp-content/uploads/2026/02/Game-Time-Social.png
END:VEVENT
BEGIN:VEVENT
DTSTART;TZID=America/Los_Angeles:20300802T123000
DTEND;TZID=America/Los_Angeles:20300802T143000
DTSTAMP:20260419T122120
CREATED:20260205T002341Z
LAST-MODIFIED:20260312T000326Z
UID:10006265-1911904200-1911911400@maybellecenter.org
SUMMARY:Knitting & Crochet
DESCRIPTION:Join us on the first\, third\, and fifth Fridays from 12:30-2:30 PM in the Community Room to knit or crochet with us! \nTools\, materials\, and instruction will be available. All experience levels welcome!
URL:https://maybellecenter.org/event/knitting-crochet/2030-08-02/
LOCATION:Maybelle Center Community Room\, 121 NW 6th Ave\, Portland\, 97209\, United States
CATEGORIES:Members,Volunteers
ATTACH;FMTTYPE=image/png:https://maybellecenter.org/wp-content/uploads/2026/02/Knitting-Crochet.png
END:VEVENT
BEGIN:VEVENT
DTSTART;TZID=America/Los_Angeles:20300809T123000
DTEND;TZID=America/Los_Angeles:20300809T143000
DTSTAMP:20260419T122120
CREATED:20260205T002710Z
LAST-MODIFIED:20260205T002710Z
UID:10006394-1912509000-1912516200@maybellecenter.org
SUMMARY:Game Time Social
DESCRIPTION:Join us in the Community Room every second and fourth Friday from 12:30-2:30 PM to play a board or card game with staff\, volunteers\, or fellow Members!
URL:https://maybellecenter.org/event/game-time-social/2030-08-09/
LOCATION:Maybelle Center Community Room\, 121 NW 6th Ave\, Portland\, 97209\, United States
CATEGORIES:Members,Volunteers
ATTACH;FMTTYPE=image/png:https://maybellecenter.org/wp-content/uploads/2026/02/Game-Time-Social.png
END:VEVENT
BEGIN:VEVENT
DTSTART;TZID=America/Los_Angeles:20300816T123000
DTEND;TZID=America/Los_Angeles:20300816T143000
DTSTAMP:20260419T122120
CREATED:20260205T002341Z
LAST-MODIFIED:20260312T000326Z
UID:10006266-1913113800-1913121000@maybellecenter.org
SUMMARY:Knitting & Crochet
DESCRIPTION:Join us on the first\, third\, and fifth Fridays from 12:30-2:30 PM in the Community Room to knit or crochet with us! \nTools\, materials\, and instruction will be available. All experience levels welcome!
URL:https://maybellecenter.org/event/knitting-crochet/2030-08-16/
LOCATION:Maybelle Center Community Room\, 121 NW 6th Ave\, Portland\, 97209\, United States
CATEGORIES:Members,Volunteers
ATTACH;FMTTYPE=image/png:https://maybellecenter.org/wp-content/uploads/2026/02/Knitting-Crochet.png
END:VEVENT
BEGIN:VEVENT
DTSTART;TZID=America/Los_Angeles:20300823T123000
DTEND;TZID=America/Los_Angeles:20300823T143000
DTSTAMP:20260419T122120
CREATED:20260205T002710Z
LAST-MODIFIED:20260205T002710Z
UID:10006395-1913718600-1913725800@maybellecenter.org
SUMMARY:Game Time Social
DESCRIPTION:Join us in the Community Room every second and fourth Friday from 12:30-2:30 PM to play a board or card game with staff\, volunteers\, or fellow Members!
URL:https://maybellecenter.org/event/game-time-social/2030-08-23/
LOCATION:Maybelle Center Community Room\, 121 NW 6th Ave\, Portland\, 97209\, United States
CATEGORIES:Members,Volunteers
ATTACH;FMTTYPE=image/png:https://maybellecenter.org/wp-content/uploads/2026/02/Game-Time-Social.png
END:VEVENT
BEGIN:VEVENT
DTSTART;TZID=America/Los_Angeles:20300830T123000
DTEND;TZID=America/Los_Angeles:20300830T143000
DTSTAMP:20260419T122120
CREATED:20260205T002341Z
LAST-MODIFIED:20260312T000326Z
UID:10006267-1914323400-1914330600@maybellecenter.org
SUMMARY:Knitting & Crochet
DESCRIPTION:Join us on the first\, third\, and fifth Fridays from 12:30-2:30 PM in the Community Room to knit or crochet with us! \nTools\, materials\, and instruction will be available. All experience levels welcome!
URL:https://maybellecenter.org/event/knitting-crochet/2030-08-30/
LOCATION:Maybelle Center Community Room\, 121 NW 6th Ave\, Portland\, 97209\, United States
CATEGORIES:Members,Volunteers
ATTACH;FMTTYPE=image/png:https://maybellecenter.org/wp-content/uploads/2026/02/Knitting-Crochet.png
END:VEVENT
BEGIN:VEVENT
DTSTART;TZID=America/Los_Angeles:20300906T123000
DTEND;TZID=America/Los_Angeles:20300906T143000
DTSTAMP:20260419T122120
CREATED:20260205T002710Z
LAST-MODIFIED:20260205T002710Z
UID:10006396-1914928200-1914935400@maybellecenter.org
SUMMARY:Game Time Social
DESCRIPTION:Join us in the Community Room every second and fourth Friday from 12:30-2:30 PM to play a board or card game with staff\, volunteers\, or fellow Members!
URL:https://maybellecenter.org/event/game-time-social/2030-09-06/
LOCATION:Maybelle Center Community Room\, 121 NW 6th Ave\, Portland\, 97209\, United States
CATEGORIES:Members,Volunteers
ATTACH;FMTTYPE=image/png:https://maybellecenter.org/wp-content/uploads/2026/02/Game-Time-Social.png
END:VEVENT
BEGIN:VEVENT
DTSTART;TZID=America/Los_Angeles:20300913T123000
DTEND;TZID=America/Los_Angeles:20300913T143000
DTSTAMP:20260419T122120
CREATED:20260205T002341Z
LAST-MODIFIED:20260312T000326Z
UID:10006268-1915533000-1915540200@maybellecenter.org
SUMMARY:Knitting & Crochet
DESCRIPTION:Join us on the first\, third\, and fifth Fridays from 12:30-2:30 PM in the Community Room to knit or crochet with us! \nTools\, materials\, and instruction will be available. All experience levels welcome!
URL:https://maybellecenter.org/event/knitting-crochet/2030-09-13/
LOCATION:Maybelle Center Community Room\, 121 NW 6th Ave\, Portland\, 97209\, United States
CATEGORIES:Members,Volunteers
ATTACH;FMTTYPE=image/png:https://maybellecenter.org/wp-content/uploads/2026/02/Knitting-Crochet.png
END:VEVENT
BEGIN:VEVENT
DTSTART;TZID=America/Los_Angeles:20300920T123000
DTEND;TZID=America/Los_Angeles:20300920T143000
DTSTAMP:20260419T122120
CREATED:20260205T002710Z
LAST-MODIFIED:20260205T002710Z
UID:10006397-1916137800-1916145000@maybellecenter.org
SUMMARY:Game Time Social
DESCRIPTION:Join us in the Community Room every second and fourth Friday from 12:30-2:30 PM to play a board or card game with staff\, volunteers\, or fellow Members!
URL:https://maybellecenter.org/event/game-time-social/2030-09-20/
LOCATION:Maybelle Center Community Room\, 121 NW 6th Ave\, Portland\, 97209\, United States
CATEGORIES:Members,Volunteers
ATTACH;FMTTYPE=image/png:https://maybellecenter.org/wp-content/uploads/2026/02/Game-Time-Social.png
END:VEVENT
BEGIN:VEVENT
DTSTART;TZID=America/Los_Angeles:20300927T123000
DTEND;TZID=America/Los_Angeles:20300927T143000
DTSTAMP:20260419T122120
CREATED:20260205T002341Z
LAST-MODIFIED:20260312T000326Z
UID:10006269-1916742600-1916749800@maybellecenter.org
SUMMARY:Knitting & Crochet
DESCRIPTION:Join us on the first\, third\, and fifth Fridays from 12:30-2:30 PM in the Community Room to knit or crochet with us! \nTools\, materials\, and instruction will be available. All experience levels welcome!
URL:https://maybellecenter.org/event/knitting-crochet/2030-09-27/
LOCATION:Maybelle Center Community Room\, 121 NW 6th Ave\, Portland\, 97209\, United States
CATEGORIES:Members,Volunteers
ATTACH;FMTTYPE=image/png:https://maybellecenter.org/wp-content/uploads/2026/02/Knitting-Crochet.png
END:VEVENT
BEGIN:VEVENT
DTSTART;TZID=America/Los_Angeles:20301004T123000
DTEND;TZID=America/Los_Angeles:20301004T143000
DTSTAMP:20260419T122120
CREATED:20260205T002710Z
LAST-MODIFIED:20260205T002710Z
UID:10006398-1917347400-1917354600@maybellecenter.org
SUMMARY:Game Time Social
DESCRIPTION:Join us in the Community Room every second and fourth Friday from 12:30-2:30 PM to play a board or card game with staff\, volunteers\, or fellow Members!
URL:https://maybellecenter.org/event/game-time-social/2030-10-04/
LOCATION:Maybelle Center Community Room\, 121 NW 6th Ave\, Portland\, 97209\, United States
CATEGORIES:Members,Volunteers
ATTACH;FMTTYPE=image/png:https://maybellecenter.org/wp-content/uploads/2026/02/Game-Time-Social.png
END:VEVENT
BEGIN:VEVENT
DTSTART;TZID=America/Los_Angeles:20301011T123000
DTEND;TZID=America/Los_Angeles:20301011T143000
DTSTAMP:20260419T122120
CREATED:20260205T002341Z
LAST-MODIFIED:20260312T000326Z
UID:10006270-1917952200-1917959400@maybellecenter.org
SUMMARY:Knitting & Crochet
DESCRIPTION:Join us on the first\, third\, and fifth Fridays from 12:30-2:30 PM in the Community Room to knit or crochet with us! \nTools\, materials\, and instruction will be available. All experience levels welcome!
URL:https://maybellecenter.org/event/knitting-crochet/2030-10-11/
LOCATION:Maybelle Center Community Room\, 121 NW 6th Ave\, Portland\, 97209\, United States
CATEGORIES:Members,Volunteers
ATTACH;FMTTYPE=image/png:https://maybellecenter.org/wp-content/uploads/2026/02/Knitting-Crochet.png
END:VEVENT
END:VCALENDAR