BEGIN:VCALENDAR
VERSION:2.0
PRODID:-//Maybelle Center - ECPv6.15.20//NONSGML v1.0//EN
CALSCALE:GREGORIAN
METHOD:PUBLISH
X-ORIGINAL-URL:https://maybellecenter.org
X-WR-CALDESC:Events for Maybelle Center
REFRESH-INTERVAL;VALUE=DURATION:PT1H
X-Robots-Tag:noindex
X-PUBLISHED-TTL:PT1H
BEGIN:VTIMEZONE
TZID:America/Los_Angeles
BEGIN:DAYLIGHT
TZOFFSETFROM:-0800
TZOFFSETTO:-0700
TZNAME:PDT
DTSTART:20280312T100000
END:DAYLIGHT
BEGIN:STANDARD
TZOFFSETFROM:-0700
TZOFFSETTO:-0800
TZNAME:PST
DTSTART:20281105T090000
END:STANDARD
BEGIN:DAYLIGHT
TZOFFSETFROM:-0800
TZOFFSETTO:-0700
TZNAME:PDT
DTSTART:20290311T100000
END:DAYLIGHT
BEGIN:STANDARD
TZOFFSETFROM:-0700
TZOFFSETTO:-0800
TZNAME:PST
DTSTART:20291104T090000
END:STANDARD
BEGIN:DAYLIGHT
TZOFFSETFROM:-0800
TZOFFSETTO:-0700
TZNAME:PDT
DTSTART:20300310T100000
END:DAYLIGHT
BEGIN:STANDARD
TZOFFSETFROM:-0700
TZOFFSETTO:-0800
TZNAME:PST
DTSTART:20301103T090000
END:STANDARD
BEGIN:DAYLIGHT
TZOFFSETFROM:-0800
TZOFFSETTO:-0700
TZNAME:PDT
DTSTART:20310309T100000
END:DAYLIGHT
BEGIN:STANDARD
TZOFFSETFROM:-0700
TZOFFSETTO:-0800
TZNAME:PST
DTSTART:20311102T090000
END:STANDARD
END:VTIMEZONE
BEGIN:VEVENT
DTSTART;TZID=America/Los_Angeles:20291005T123000
DTEND;TZID=America/Los_Angeles:20291005T143000
DTSTAMP:20260419T092303
CREATED:20260205T002710Z
LAST-MODIFIED:20260205T002710Z
UID:10006372-1885897800-1885905000@maybellecenter.org
SUMMARY:Game Time Social
DESCRIPTION:Join us in the Community Room every second and fourth Friday from 12:30-2:30 PM to play a board or card game with staff\, volunteers\, or fellow Members!
URL:https://maybellecenter.org/event/game-time-social/2029-10-05/
LOCATION:Maybelle Center Community Room\, 121 NW 6th Ave\, Portland\, 97209\, United States
CATEGORIES:Members,Volunteers
ATTACH;FMTTYPE=image/png:https://maybellecenter.org/wp-content/uploads/2026/02/Game-Time-Social.png
END:VEVENT
BEGIN:VEVENT
DTSTART;TZID=America/Los_Angeles:20291012T123000
DTEND;TZID=America/Los_Angeles:20291012T143000
DTSTAMP:20260419T092303
CREATED:20260205T002341Z
LAST-MODIFIED:20260312T000326Z
UID:10006244-1886502600-1886509800@maybellecenter.org
SUMMARY:Knitting & Crochet
DESCRIPTION:Join us on the first\, third\, and fifth Fridays from 12:30-2:30 PM in the Community Room to knit or crochet with us! \nTools\, materials\, and instruction will be available. All experience levels welcome!
URL:https://maybellecenter.org/event/knitting-crochet/2029-10-12/
LOCATION:Maybelle Center Community Room\, 121 NW 6th Ave\, Portland\, 97209\, United States
CATEGORIES:Members,Volunteers
ATTACH;FMTTYPE=image/png:https://maybellecenter.org/wp-content/uploads/2026/02/Knitting-Crochet.png
END:VEVENT
BEGIN:VEVENT
DTSTART;TZID=America/Los_Angeles:20291019T123000
DTEND;TZID=America/Los_Angeles:20291019T143000
DTSTAMP:20260419T092303
CREATED:20260205T002710Z
LAST-MODIFIED:20260205T002710Z
UID:10006373-1887107400-1887114600@maybellecenter.org
SUMMARY:Game Time Social
DESCRIPTION:Join us in the Community Room every second and fourth Friday from 12:30-2:30 PM to play a board or card game with staff\, volunteers\, or fellow Members!
URL:https://maybellecenter.org/event/game-time-social/2029-10-19/
LOCATION:Maybelle Center Community Room\, 121 NW 6th Ave\, Portland\, 97209\, United States
CATEGORIES:Members,Volunteers
ATTACH;FMTTYPE=image/png:https://maybellecenter.org/wp-content/uploads/2026/02/Game-Time-Social.png
END:VEVENT
BEGIN:VEVENT
DTSTART;TZID=America/Los_Angeles:20291026T123000
DTEND;TZID=America/Los_Angeles:20291026T143000
DTSTAMP:20260419T092303
CREATED:20260205T002341Z
LAST-MODIFIED:20260312T000326Z
UID:10006245-1887712200-1887719400@maybellecenter.org
SUMMARY:Knitting & Crochet
DESCRIPTION:Join us on the first\, third\, and fifth Fridays from 12:30-2:30 PM in the Community Room to knit or crochet with us! \nTools\, materials\, and instruction will be available. All experience levels welcome!
URL:https://maybellecenter.org/event/knitting-crochet/2029-10-26/
LOCATION:Maybelle Center Community Room\, 121 NW 6th Ave\, Portland\, 97209\, United States
CATEGORIES:Members,Volunteers
ATTACH;FMTTYPE=image/png:https://maybellecenter.org/wp-content/uploads/2026/02/Knitting-Crochet.png
END:VEVENT
BEGIN:VEVENT
DTSTART;TZID=America/Los_Angeles:20291102T123000
DTEND;TZID=America/Los_Angeles:20291102T143000
DTSTAMP:20260419T092303
CREATED:20260205T002710Z
LAST-MODIFIED:20260205T002710Z
UID:10006374-1888317000-1888324200@maybellecenter.org
SUMMARY:Game Time Social
DESCRIPTION:Join us in the Community Room every second and fourth Friday from 12:30-2:30 PM to play a board or card game with staff\, volunteers\, or fellow Members!
URL:https://maybellecenter.org/event/game-time-social/2029-11-02/
LOCATION:Maybelle Center Community Room\, 121 NW 6th Ave\, Portland\, 97209\, United States
CATEGORIES:Members,Volunteers
ATTACH;FMTTYPE=image/png:https://maybellecenter.org/wp-content/uploads/2026/02/Game-Time-Social.png
END:VEVENT
BEGIN:VEVENT
DTSTART;TZID=America/Los_Angeles:20291109T123000
DTEND;TZID=America/Los_Angeles:20291109T143000
DTSTAMP:20260419T092303
CREATED:20260205T002341Z
LAST-MODIFIED:20260312T000326Z
UID:10006246-1888921800-1888929000@maybellecenter.org
SUMMARY:Knitting & Crochet
DESCRIPTION:Join us on the first\, third\, and fifth Fridays from 12:30-2:30 PM in the Community Room to knit or crochet with us! \nTools\, materials\, and instruction will be available. All experience levels welcome!
URL:https://maybellecenter.org/event/knitting-crochet/2029-11-09/
LOCATION:Maybelle Center Community Room\, 121 NW 6th Ave\, Portland\, 97209\, United States
CATEGORIES:Members,Volunteers
ATTACH;FMTTYPE=image/png:https://maybellecenter.org/wp-content/uploads/2026/02/Knitting-Crochet.png
END:VEVENT
BEGIN:VEVENT
DTSTART;TZID=America/Los_Angeles:20291116T123000
DTEND;TZID=America/Los_Angeles:20291116T143000
DTSTAMP:20260419T092303
CREATED:20260205T002710Z
LAST-MODIFIED:20260205T002710Z
UID:10006375-1889526600-1889533800@maybellecenter.org
SUMMARY:Game Time Social
DESCRIPTION:Join us in the Community Room every second and fourth Friday from 12:30-2:30 PM to play a board or card game with staff\, volunteers\, or fellow Members!
URL:https://maybellecenter.org/event/game-time-social/2029-11-16/
LOCATION:Maybelle Center Community Room\, 121 NW 6th Ave\, Portland\, 97209\, United States
CATEGORIES:Members,Volunteers
ATTACH;FMTTYPE=image/png:https://maybellecenter.org/wp-content/uploads/2026/02/Game-Time-Social.png
END:VEVENT
BEGIN:VEVENT
DTSTART;TZID=America/Los_Angeles:20291123T123000
DTEND;TZID=America/Los_Angeles:20291123T143000
DTSTAMP:20260419T092303
CREATED:20260205T002341Z
LAST-MODIFIED:20260312T000326Z
UID:10006247-1890131400-1890138600@maybellecenter.org
SUMMARY:Knitting & Crochet
DESCRIPTION:Join us on the first\, third\, and fifth Fridays from 12:30-2:30 PM in the Community Room to knit or crochet with us! \nTools\, materials\, and instruction will be available. All experience levels welcome!
URL:https://maybellecenter.org/event/knitting-crochet/2029-11-23/
LOCATION:Maybelle Center Community Room\, 121 NW 6th Ave\, Portland\, 97209\, United States
CATEGORIES:Members,Volunteers
ATTACH;FMTTYPE=image/png:https://maybellecenter.org/wp-content/uploads/2026/02/Knitting-Crochet.png
END:VEVENT
BEGIN:VEVENT
DTSTART;TZID=America/Los_Angeles:20291130T123000
DTEND;TZID=America/Los_Angeles:20291130T143000
DTSTAMP:20260419T092303
CREATED:20260205T002710Z
LAST-MODIFIED:20260205T002710Z
UID:10006376-1890736200-1890743400@maybellecenter.org
SUMMARY:Game Time Social
DESCRIPTION:Join us in the Community Room every second and fourth Friday from 12:30-2:30 PM to play a board or card game with staff\, volunteers\, or fellow Members!
URL:https://maybellecenter.org/event/game-time-social/2029-11-30/
LOCATION:Maybelle Center Community Room\, 121 NW 6th Ave\, Portland\, 97209\, United States
CATEGORIES:Members,Volunteers
ATTACH;FMTTYPE=image/png:https://maybellecenter.org/wp-content/uploads/2026/02/Game-Time-Social.png
END:VEVENT
BEGIN:VEVENT
DTSTART;TZID=America/Los_Angeles:20291207T123000
DTEND;TZID=America/Los_Angeles:20291207T143000
DTSTAMP:20260419T092303
CREATED:20260205T002341Z
LAST-MODIFIED:20260312T000326Z
UID:10006248-1891341000-1891348200@maybellecenter.org
SUMMARY:Knitting & Crochet
DESCRIPTION:Join us on the first\, third\, and fifth Fridays from 12:30-2:30 PM in the Community Room to knit or crochet with us! \nTools\, materials\, and instruction will be available. All experience levels welcome!
URL:https://maybellecenter.org/event/knitting-crochet/2029-12-07/
LOCATION:Maybelle Center Community Room\, 121 NW 6th Ave\, Portland\, 97209\, United States
CATEGORIES:Members,Volunteers
ATTACH;FMTTYPE=image/png:https://maybellecenter.org/wp-content/uploads/2026/02/Knitting-Crochet.png
END:VEVENT
BEGIN:VEVENT
DTSTART;TZID=America/Los_Angeles:20291214T123000
DTEND;TZID=America/Los_Angeles:20291214T143000
DTSTAMP:20260419T092303
CREATED:20260205T002710Z
LAST-MODIFIED:20260205T002710Z
UID:10006377-1891945800-1891953000@maybellecenter.org
SUMMARY:Game Time Social
DESCRIPTION:Join us in the Community Room every second and fourth Friday from 12:30-2:30 PM to play a board or card game with staff\, volunteers\, or fellow Members!
URL:https://maybellecenter.org/event/game-time-social/2029-12-14/
LOCATION:Maybelle Center Community Room\, 121 NW 6th Ave\, Portland\, 97209\, United States
CATEGORIES:Members,Volunteers
ATTACH;FMTTYPE=image/png:https://maybellecenter.org/wp-content/uploads/2026/02/Game-Time-Social.png
END:VEVENT
BEGIN:VEVENT
DTSTART;TZID=America/Los_Angeles:20291221T123000
DTEND;TZID=America/Los_Angeles:20291221T143000
DTSTAMP:20260419T092303
CREATED:20260205T002341Z
LAST-MODIFIED:20260312T000326Z
UID:10006249-1892550600-1892557800@maybellecenter.org
SUMMARY:Knitting & Crochet
DESCRIPTION:Join us on the first\, third\, and fifth Fridays from 12:30-2:30 PM in the Community Room to knit or crochet with us! \nTools\, materials\, and instruction will be available. All experience levels welcome!
URL:https://maybellecenter.org/event/knitting-crochet/2029-12-21/
LOCATION:Maybelle Center Community Room\, 121 NW 6th Ave\, Portland\, 97209\, United States
CATEGORIES:Members,Volunteers
ATTACH;FMTTYPE=image/png:https://maybellecenter.org/wp-content/uploads/2026/02/Knitting-Crochet.png
END:VEVENT
BEGIN:VEVENT
DTSTART;TZID=America/Los_Angeles:20291228T123000
DTEND;TZID=America/Los_Angeles:20291228T143000
DTSTAMP:20260419T092303
CREATED:20260205T002710Z
LAST-MODIFIED:20260205T002710Z
UID:10006378-1893155400-1893162600@maybellecenter.org
SUMMARY:Game Time Social
DESCRIPTION:Join us in the Community Room every second and fourth Friday from 12:30-2:30 PM to play a board or card game with staff\, volunteers\, or fellow Members!
URL:https://maybellecenter.org/event/game-time-social/2029-12-28/
LOCATION:Maybelle Center Community Room\, 121 NW 6th Ave\, Portland\, 97209\, United States
CATEGORIES:Members,Volunteers
ATTACH;FMTTYPE=image/png:https://maybellecenter.org/wp-content/uploads/2026/02/Game-Time-Social.png
END:VEVENT
BEGIN:VEVENT
DTSTART;TZID=America/Los_Angeles:20300104T123000
DTEND;TZID=America/Los_Angeles:20300104T143000
DTSTAMP:20260419T092303
CREATED:20260205T002341Z
LAST-MODIFIED:20260312T000326Z
UID:10006250-1893760200-1893767400@maybellecenter.org
SUMMARY:Knitting & Crochet
DESCRIPTION:Join us on the first\, third\, and fifth Fridays from 12:30-2:30 PM in the Community Room to knit or crochet with us! \nTools\, materials\, and instruction will be available. All experience levels welcome!
URL:https://maybellecenter.org/event/knitting-crochet/2030-01-04/
LOCATION:Maybelle Center Community Room\, 121 NW 6th Ave\, Portland\, 97209\, United States
CATEGORIES:Members,Volunteers
ATTACH;FMTTYPE=image/png:https://maybellecenter.org/wp-content/uploads/2026/02/Knitting-Crochet.png
END:VEVENT
BEGIN:VEVENT
DTSTART;TZID=America/Los_Angeles:20300111T123000
DTEND;TZID=America/Los_Angeles:20300111T143000
DTSTAMP:20260419T092303
CREATED:20260205T002710Z
LAST-MODIFIED:20260205T002710Z
UID:10006379-1894365000-1894372200@maybellecenter.org
SUMMARY:Game Time Social
DESCRIPTION:Join us in the Community Room every second and fourth Friday from 12:30-2:30 PM to play a board or card game with staff\, volunteers\, or fellow Members!
URL:https://maybellecenter.org/event/game-time-social/2030-01-11/
LOCATION:Maybelle Center Community Room\, 121 NW 6th Ave\, Portland\, 97209\, United States
CATEGORIES:Members,Volunteers
ATTACH;FMTTYPE=image/png:https://maybellecenter.org/wp-content/uploads/2026/02/Game-Time-Social.png
END:VEVENT
BEGIN:VEVENT
DTSTART;TZID=America/Los_Angeles:20300118T123000
DTEND;TZID=America/Los_Angeles:20300118T143000
DTSTAMP:20260419T092303
CREATED:20260205T002341Z
LAST-MODIFIED:20260312T000326Z
UID:10006251-1894969800-1894977000@maybellecenter.org
SUMMARY:Knitting & Crochet
DESCRIPTION:Join us on the first\, third\, and fifth Fridays from 12:30-2:30 PM in the Community Room to knit or crochet with us! \nTools\, materials\, and instruction will be available. All experience levels welcome!
URL:https://maybellecenter.org/event/knitting-crochet/2030-01-18/
LOCATION:Maybelle Center Community Room\, 121 NW 6th Ave\, Portland\, 97209\, United States
CATEGORIES:Members,Volunteers
ATTACH;FMTTYPE=image/png:https://maybellecenter.org/wp-content/uploads/2026/02/Knitting-Crochet.png
END:VEVENT
BEGIN:VEVENT
DTSTART;TZID=America/Los_Angeles:20300125T123000
DTEND;TZID=America/Los_Angeles:20300125T143000
DTSTAMP:20260419T092303
CREATED:20260205T002710Z
LAST-MODIFIED:20260205T002710Z
UID:10006380-1895574600-1895581800@maybellecenter.org
SUMMARY:Game Time Social
DESCRIPTION:Join us in the Community Room every second and fourth Friday from 12:30-2:30 PM to play a board or card game with staff\, volunteers\, or fellow Members!
URL:https://maybellecenter.org/event/game-time-social/2030-01-25/
LOCATION:Maybelle Center Community Room\, 121 NW 6th Ave\, Portland\, 97209\, United States
CATEGORIES:Members,Volunteers
ATTACH;FMTTYPE=image/png:https://maybellecenter.org/wp-content/uploads/2026/02/Game-Time-Social.png
END:VEVENT
BEGIN:VEVENT
DTSTART;TZID=America/Los_Angeles:20300201T123000
DTEND;TZID=America/Los_Angeles:20300201T143000
DTSTAMP:20260419T092303
CREATED:20260205T002341Z
LAST-MODIFIED:20260312T000326Z
UID:10006252-1896179400-1896186600@maybellecenter.org
SUMMARY:Knitting & Crochet
DESCRIPTION:Join us on the first\, third\, and fifth Fridays from 12:30-2:30 PM in the Community Room to knit or crochet with us! \nTools\, materials\, and instruction will be available. All experience levels welcome!
URL:https://maybellecenter.org/event/knitting-crochet/2030-02-01/
LOCATION:Maybelle Center Community Room\, 121 NW 6th Ave\, Portland\, 97209\, United States
CATEGORIES:Members,Volunteers
ATTACH;FMTTYPE=image/png:https://maybellecenter.org/wp-content/uploads/2026/02/Knitting-Crochet.png
END:VEVENT
BEGIN:VEVENT
DTSTART;TZID=America/Los_Angeles:20300208T123000
DTEND;TZID=America/Los_Angeles:20300208T143000
DTSTAMP:20260419T092303
CREATED:20260205T002710Z
LAST-MODIFIED:20260205T002710Z
UID:10006381-1896784200-1896791400@maybellecenter.org
SUMMARY:Game Time Social
DESCRIPTION:Join us in the Community Room every second and fourth Friday from 12:30-2:30 PM to play a board or card game with staff\, volunteers\, or fellow Members!
URL:https://maybellecenter.org/event/game-time-social/2030-02-08/
LOCATION:Maybelle Center Community Room\, 121 NW 6th Ave\, Portland\, 97209\, United States
CATEGORIES:Members,Volunteers
ATTACH;FMTTYPE=image/png:https://maybellecenter.org/wp-content/uploads/2026/02/Game-Time-Social.png
END:VEVENT
BEGIN:VEVENT
DTSTART;TZID=America/Los_Angeles:20300215T123000
DTEND;TZID=America/Los_Angeles:20300215T143000
DTSTAMP:20260419T092303
CREATED:20260205T002341Z
LAST-MODIFIED:20260312T000326Z
UID:10006253-1897389000-1897396200@maybellecenter.org
SUMMARY:Knitting & Crochet
DESCRIPTION:Join us on the first\, third\, and fifth Fridays from 12:30-2:30 PM in the Community Room to knit or crochet with us! \nTools\, materials\, and instruction will be available. All experience levels welcome!
URL:https://maybellecenter.org/event/knitting-crochet/2030-02-15/
LOCATION:Maybelle Center Community Room\, 121 NW 6th Ave\, Portland\, 97209\, United States
CATEGORIES:Members,Volunteers
ATTACH;FMTTYPE=image/png:https://maybellecenter.org/wp-content/uploads/2026/02/Knitting-Crochet.png
END:VEVENT
BEGIN:VEVENT
DTSTART;TZID=America/Los_Angeles:20300222T123000
DTEND;TZID=America/Los_Angeles:20300222T143000
DTSTAMP:20260419T092303
CREATED:20260205T002710Z
LAST-MODIFIED:20260205T002710Z
UID:10006382-1897993800-1898001000@maybellecenter.org
SUMMARY:Game Time Social
DESCRIPTION:Join us in the Community Room every second and fourth Friday from 12:30-2:30 PM to play a board or card game with staff\, volunteers\, or fellow Members!
URL:https://maybellecenter.org/event/game-time-social/2030-02-22/
LOCATION:Maybelle Center Community Room\, 121 NW 6th Ave\, Portland\, 97209\, United States
CATEGORIES:Members,Volunteers
ATTACH;FMTTYPE=image/png:https://maybellecenter.org/wp-content/uploads/2026/02/Game-Time-Social.png
END:VEVENT
BEGIN:VEVENT
DTSTART;TZID=America/Los_Angeles:20300301T123000
DTEND;TZID=America/Los_Angeles:20300301T143000
DTSTAMP:20260419T092303
CREATED:20260205T002341Z
LAST-MODIFIED:20260312T000326Z
UID:10006254-1898598600-1898605800@maybellecenter.org
SUMMARY:Knitting & Crochet
DESCRIPTION:Join us on the first\, third\, and fifth Fridays from 12:30-2:30 PM in the Community Room to knit or crochet with us! \nTools\, materials\, and instruction will be available. All experience levels welcome!
URL:https://maybellecenter.org/event/knitting-crochet/2030-03-01/
LOCATION:Maybelle Center Community Room\, 121 NW 6th Ave\, Portland\, 97209\, United States
CATEGORIES:Members,Volunteers
ATTACH;FMTTYPE=image/png:https://maybellecenter.org/wp-content/uploads/2026/02/Knitting-Crochet.png
END:VEVENT
BEGIN:VEVENT
DTSTART;TZID=America/Los_Angeles:20300308T123000
DTEND;TZID=America/Los_Angeles:20300308T143000
DTSTAMP:20260419T092303
CREATED:20260205T002710Z
LAST-MODIFIED:20260205T002710Z
UID:10006383-1899203400-1899210600@maybellecenter.org
SUMMARY:Game Time Social
DESCRIPTION:Join us in the Community Room every second and fourth Friday from 12:30-2:30 PM to play a board or card game with staff\, volunteers\, or fellow Members!
URL:https://maybellecenter.org/event/game-time-social/2030-03-08/
LOCATION:Maybelle Center Community Room\, 121 NW 6th Ave\, Portland\, 97209\, United States
CATEGORIES:Members,Volunteers
ATTACH;FMTTYPE=image/png:https://maybellecenter.org/wp-content/uploads/2026/02/Game-Time-Social.png
END:VEVENT
BEGIN:VEVENT
DTSTART;TZID=America/Los_Angeles:20300315T123000
DTEND;TZID=America/Los_Angeles:20300315T143000
DTSTAMP:20260419T092303
CREATED:20260205T002341Z
LAST-MODIFIED:20260312T000326Z
UID:10006255-1899808200-1899815400@maybellecenter.org
SUMMARY:Knitting & Crochet
DESCRIPTION:Join us on the first\, third\, and fifth Fridays from 12:30-2:30 PM in the Community Room to knit or crochet with us! \nTools\, materials\, and instruction will be available. All experience levels welcome!
URL:https://maybellecenter.org/event/knitting-crochet/2030-03-15/
LOCATION:Maybelle Center Community Room\, 121 NW 6th Ave\, Portland\, 97209\, United States
CATEGORIES:Members,Volunteers
ATTACH;FMTTYPE=image/png:https://maybellecenter.org/wp-content/uploads/2026/02/Knitting-Crochet.png
END:VEVENT
BEGIN:VEVENT
DTSTART;TZID=America/Los_Angeles:20300322T123000
DTEND;TZID=America/Los_Angeles:20300322T143000
DTSTAMP:20260419T092303
CREATED:20260205T002710Z
LAST-MODIFIED:20260205T002710Z
UID:10006384-1900413000-1900420200@maybellecenter.org
SUMMARY:Game Time Social
DESCRIPTION:Join us in the Community Room every second and fourth Friday from 12:30-2:30 PM to play a board or card game with staff\, volunteers\, or fellow Members!
URL:https://maybellecenter.org/event/game-time-social/2030-03-22/
LOCATION:Maybelle Center Community Room\, 121 NW 6th Ave\, Portland\, 97209\, United States
CATEGORIES:Members,Volunteers
ATTACH;FMTTYPE=image/png:https://maybellecenter.org/wp-content/uploads/2026/02/Game-Time-Social.png
END:VEVENT
BEGIN:VEVENT
DTSTART;TZID=America/Los_Angeles:20300329T123000
DTEND;TZID=America/Los_Angeles:20300329T143000
DTSTAMP:20260419T092303
CREATED:20260205T002341Z
LAST-MODIFIED:20260312T000326Z
UID:10006256-1901017800-1901025000@maybellecenter.org
SUMMARY:Knitting & Crochet
DESCRIPTION:Join us on the first\, third\, and fifth Fridays from 12:30-2:30 PM in the Community Room to knit or crochet with us! \nTools\, materials\, and instruction will be available. All experience levels welcome!
URL:https://maybellecenter.org/event/knitting-crochet/2030-03-29/
LOCATION:Maybelle Center Community Room\, 121 NW 6th Ave\, Portland\, 97209\, United States
CATEGORIES:Members,Volunteers
ATTACH;FMTTYPE=image/png:https://maybellecenter.org/wp-content/uploads/2026/02/Knitting-Crochet.png
END:VEVENT
BEGIN:VEVENT
DTSTART;TZID=America/Los_Angeles:20300405T123000
DTEND;TZID=America/Los_Angeles:20300405T143000
DTSTAMP:20260419T092303
CREATED:20260205T002710Z
LAST-MODIFIED:20260205T002710Z
UID:10006385-1901622600-1901629800@maybellecenter.org
SUMMARY:Game Time Social
DESCRIPTION:Join us in the Community Room every second and fourth Friday from 12:30-2:30 PM to play a board or card game with staff\, volunteers\, or fellow Members!
URL:https://maybellecenter.org/event/game-time-social/2030-04-05/
LOCATION:Maybelle Center Community Room\, 121 NW 6th Ave\, Portland\, 97209\, United States
CATEGORIES:Members,Volunteers
ATTACH;FMTTYPE=image/png:https://maybellecenter.org/wp-content/uploads/2026/02/Game-Time-Social.png
END:VEVENT
BEGIN:VEVENT
DTSTART;TZID=America/Los_Angeles:20300412T123000
DTEND;TZID=America/Los_Angeles:20300412T143000
DTSTAMP:20260419T092303
CREATED:20260205T002341Z
LAST-MODIFIED:20260312T000326Z
UID:10006257-1902227400-1902234600@maybellecenter.org
SUMMARY:Knitting & Crochet
DESCRIPTION:Join us on the first\, third\, and fifth Fridays from 12:30-2:30 PM in the Community Room to knit or crochet with us! \nTools\, materials\, and instruction will be available. All experience levels welcome!
URL:https://maybellecenter.org/event/knitting-crochet/2030-04-12/
LOCATION:Maybelle Center Community Room\, 121 NW 6th Ave\, Portland\, 97209\, United States
CATEGORIES:Members,Volunteers
ATTACH;FMTTYPE=image/png:https://maybellecenter.org/wp-content/uploads/2026/02/Knitting-Crochet.png
END:VEVENT
BEGIN:VEVENT
DTSTART;TZID=America/Los_Angeles:20300419T123000
DTEND;TZID=America/Los_Angeles:20300419T143000
DTSTAMP:20260419T092303
CREATED:20260205T002710Z
LAST-MODIFIED:20260205T002710Z
UID:10006386-1902832200-1902839400@maybellecenter.org
SUMMARY:Game Time Social
DESCRIPTION:Join us in the Community Room every second and fourth Friday from 12:30-2:30 PM to play a board or card game with staff\, volunteers\, or fellow Members!
URL:https://maybellecenter.org/event/game-time-social/2030-04-19/
LOCATION:Maybelle Center Community Room\, 121 NW 6th Ave\, Portland\, 97209\, United States
CATEGORIES:Members,Volunteers
ATTACH;FMTTYPE=image/png:https://maybellecenter.org/wp-content/uploads/2026/02/Game-Time-Social.png
END:VEVENT
BEGIN:VEVENT
DTSTART;TZID=America/Los_Angeles:20300426T123000
DTEND;TZID=America/Los_Angeles:20300426T143000
DTSTAMP:20260419T092303
CREATED:20260205T002341Z
LAST-MODIFIED:20260312T000326Z
UID:10006258-1903437000-1903444200@maybellecenter.org
SUMMARY:Knitting & Crochet
DESCRIPTION:Join us on the first\, third\, and fifth Fridays from 12:30-2:30 PM in the Community Room to knit or crochet with us! \nTools\, materials\, and instruction will be available. All experience levels welcome!
URL:https://maybellecenter.org/event/knitting-crochet/2030-04-26/
LOCATION:Maybelle Center Community Room\, 121 NW 6th Ave\, Portland\, 97209\, United States
CATEGORIES:Members,Volunteers
ATTACH;FMTTYPE=image/png:https://maybellecenter.org/wp-content/uploads/2026/02/Knitting-Crochet.png
END:VEVENT
END:VCALENDAR